BEGIN:VCALENDAR
VERSION:2.0
PRODID:-//TYPO3/NONSGML MUK Events//EN
METHOD:PUBLISH
BEGIN:VTIMEZONE
TZID:W. Europe Standard Time
BEGIN:STANDARD
TZNAME:W. Europe Standard Time
DTSTART:20150605T160000
TZOFFSETFROM:+0200
TZOFFSETTO:+0100
RRULE:FREQ=YEARLY;BYDAY=-1SU;BYMONTH=10
END:STANDARD
BEGIN:DAYLIGHT
TZNAME:W. Europe Standard Time
DTSTART:16010101T020000
TZOFFSETFROM:+0100
TZOFFSETTO:+0200
RRULE:FREQ=YEARLY;BYDAY=-1SU;BYMONTH=3
END:DAYLIGHT
END:VTIMEZONE
BEGIN:VEVENT
ORGANIZER:MAILTO:office@muk.ac.at
UID:bc812c9b-3956-4d17-88de-5e2d152ddc5b
DTSTAMP:20150605T160000Z
DTSTART;TZID="W. Europe Standard Time":20150605T160000
DTEND;TZID="W. Europe Standard Time":20150605T190000
LOCATION:Musik und Kunst Privatuniversität der Stadt Wien, MUK.studio
TRANSP:OPAQUE
SUMMARY:Workshop Sologesang mit Jeanie Darnell: Amerikanisches Lied
DESCRIPTION:Jeanie Darnell ist Associate Professor of Music und Head of Vocal Studies bei der Florida Gulf Coast University Bower School of Music. Als Konzertkünstlerin ist Darnell schon in den USA und Europa für ihre „wunderhübsch glockenartigen Töne“ gefeiert worden. 1998 war sie regionale Finalistin in den Metropolitan Opera National Council Auditions und sie ist als Sopran-Solistin für Großkonzerte und Oratorienrepertoires sehr gefragt. Sie war Solistin mit dem Naples Philharmonic Orchestra, der Southwest Florida Symphony, der Opera Naples, Patronato Peruano de la Música Centenarios, Operafestival di Roma, Corsi Internazionali di Musica, Omaha Symphony, Arkansas Symphony Orchestra, Denver Bach Festival, Naples Bach Ensemble, Fort Myers Symphonic Master Singers, Lindsborg Messiah Festival, Colorado Music Festival und Rocky Mountain Music Alliance. Als Verfechterin Neuer Musik präsentierte Jeanie Darnell bereits Werke von Komponisten wie Robert Boury, Don Freund, Richard Hundley, Lori Laitman, Marcia Marchesi, Timothy Snider und Z. Randall Stroope in den gesamten Vereinigten Staaten.Darnell promovierte 2002 in Vocal Performance and Pedagogy an der University of Colorado-Boulder und erhielt einen „Doctor of Musical Arts”. Zu dieser Zeit leitete sie bereits die Gesangsabteilung der University of Nebraska in Omaha. Beim International Congress of Voice Teachers (ICVT) 2005 in Vancouver und 2009 in Paris sowie bei der National Association of Teachers of Singing (NATS) 2008 hielt sie Vorträge über die jugendliche männliche Stimme. Bei der College Music Society (CMS) referierte sie bei regionalen Konferenzen über das Aufführungsrepertoire von Schubert bis Berg Vorträge und präsentierte ihre Forschungen über Die Lieder von Robert Boury 2006 bei der NATS National Conference. Jeanie Darnell war Teil des Lehrkörpers beim Corsi Internazionali di Musica Summer Music Festival in Urbino und Perugia (Italien) und war Jurorin beim El Concurso de Canto Lírico de la Radio Filarmonia in Lima (Peru). Ihre StudentInnen konnten sich in diversen Wettbewerben behaupten und erhalten zahlreiche Praktika sowie Stellen in Sommerprogrammen und Graduiertenschulen.
PRIORITY:5
CLASS:PUBLIC
BEGIN:VALARM
TRIGGER:-PT15M
ACTION:DISPLAY
DESCRIPTION:Reminder
END:VALARM
END:VEVENT
END:VCALENDAR
