BEGIN:VCALENDAR
VERSION:2.0
PRODID:-//TYPO3/NONSGML MUK Events//EN
METHOD:PUBLISH
BEGIN:VTIMEZONE
TZID:W. Europe Standard Time
BEGIN:STANDARD
TZNAME:W. Europe Standard Time
DTSTART:20180628T193000
TZOFFSETFROM:+0200
TZOFFSETTO:+0100
RRULE:FREQ=YEARLY;BYDAY=-1SU;BYMONTH=10
END:STANDARD
BEGIN:DAYLIGHT
TZNAME:W. Europe Standard Time
DTSTART:16010101T020000
TZOFFSETFROM:+0100
TZOFFSETTO:+0200
RRULE:FREQ=YEARLY;BYDAY=-1SU;BYMONTH=3
END:DAYLIGHT
END:VTIMEZONE
BEGIN:VEVENT
ORGANIZER:MAILTO:office@muk.ac.at
UID:bc812c9b-3956-4d17-88de-5e2d152ddc5b
DTSTAMP:20180628T193000Z
DTSTART;TZID="W. Europe Standard Time":20180628T193000
DTEND;TZID="W. Europe Standard Time":20180628T203000
LOCATION:Ronacher
TRANSP:OPAQUE
SUMMARY:We Are Musical - The Next Generation
DESCRIPTION:Musicalstars von morgen AbsolventInnenkonzert des Studiengangs Musikalisches Unterhaltungstheater
Die Vereinigten Bühnen Wien (VBW) und die Musik und Kunst Privatuniversität der Stadt Wien (MUK) präsentieren mit We Are Musical — The Next Generation auch heuer wieder einen ganz besonderen Abend im Ronacher, der ganz den Musicalstars von morgen gewidmet ist. Nach der erfolgreichen Premiere im Vorjahr findet die Veranstaltung dieses Jahr am Donnerstag, 28. Juni 2018, 19.30 Uhr wieder statt.
Neben den MUK-Absolventinnen und Absolventen des diesjährigen Abschlussjahrgangs werden auch heuer wieder etablierte ehemalige MUK-Studierende auf der Bühne stehen: Otto Jaus, Boris Pfeifer, Sigrid Hauser. Durch die Veranstaltung führt der renommierte Regisseur, Schauspieler und stellvertretende Studiengangsleiter Musikalisches Unterhaltungstheater Werner Sobotka. Mit dabei auch Musikerinnen und Musiker des Orchesters der Vereinigten Bühnen Wien unter der Leitung von Peter Uwira. Ein Abend ganz im Zeichen der Nachwuchsförderung.
   zur Facebook-Veranstaltung
PRIORITY:5
CLASS:PUBLIC
BEGIN:VALARM
TRIGGER:-PT15M
ACTION:DISPLAY
DESCRIPTION:Reminder
END:VALARM
END:VEVENT
END:VCALENDAR
