BEGIN:VCALENDAR
VERSION:2.0
PRODID:-//TYPO3/NONSGML MUK Events//EN
METHOD:PUBLISH
BEGIN:VTIMEZONE
TZID:W. Europe Standard Time
BEGIN:STANDARD
TZNAME:W. Europe Standard Time
DTSTART:20130312T170000
TZOFFSETFROM:+0200
TZOFFSETTO:+0100
RRULE:FREQ=YEARLY;BYDAY=-1SU;BYMONTH=10
END:STANDARD
BEGIN:DAYLIGHT
TZNAME:W. Europe Standard Time
DTSTART:16010101T020000
TZOFFSETFROM:+0100
TZOFFSETTO:+0200
RRULE:FREQ=YEARLY;BYDAY=-1SU;BYMONTH=3
END:DAYLIGHT
END:VTIMEZONE
BEGIN:VEVENT
ORGANIZER:MAILTO:office@muk.ac.at
UID:bc812c9b-3956-4d17-88de-5e2d152ddc5b
DTSTAMP:20130312T170000Z
DTSTART;TZID="W. Europe Standard Time":20130312T170000
DTEND;TZID="W. Europe Standard Time":20130312T180000
LOCATION:Musik und Kunst Privatuniversität der Stadt Wien, MUK.podium
TRANSP:OPAQUE
SUMMARY:VIENNA SAXFEST - Konzert II
DESCRIPTION:Lectures, Workshops, Masterclasses, 12 Uraufführungen, 18 Österreichische Erstaufführungen
Programm 
Freitag, 8. März 201314.00—17.00 Uhr Workshop „Live-Elektronik“ FLORIAN BOGNER (Erkersaal)Samstag, 9. März 201310.00—13.00 Uhr Offene Probe (Erkersaal)14.00—16.00 Uhr Offene Probe KARLHEINZ ESSL (Leonie-Rysanek-Saal/LRS)16.00—18.00 Uhr Offene Probe DUO SAXOPHONIC/GERMÁN TORO-PEREZ (LRS)Montag, 11. März 201309.00—11.00 Uhr Offene Probe (Erkersaal)11.00—12.00 Uhr Seminar MARIE-BERNADETTE CHARRIER (Erkersaal)12.00—13.00 Uhr Lecture GERMÁN TORO-PÉREZ (Erkersaal)13.00—14.00 Uhr Roundtable zum Thema „Live-Elektronik“ (Erkersaal)18.30—21.00 Uhr Konzert I MARIE-BERNADETTE CHARRIER (LRS)Dienstag, 12. März 201309.00—13.00 Uhr Masterclass MARIE-BERNADETTE CHARRIER (Erkersaal)14.00—15.00 Uhr Lecture MIKEL KUEHN (Erkersaal)17.00—21.00 Uhr Konzert II (Anton-Dermota-Saal/ADS)Mittwoch, 13. März 201309.00—13.00 Uhr Masterclass MARIE-BERNADETTE CHARRIER (Erkersaal)13.00—14.00 Uhr Lecture KARLHEINZ ESSL (Erkersaal)14.00—15.00 Uhr Lecture CHRISTOPHE HAVEL (Erkersaal)15.00—16.00 Uhr Präsentation SELMER PARIS (Erkersaal)18.00—21.00 Uhr Konzert III (LRS)Donnerstag, 14. März 201312.00—13.00 Uhr Präsentation RICO REEDS (Raum 5.12)13.00—14.30 Uhr Masterclass MARIO MARZI (Raum 5.12)14.30—16.30 Uhr Masterclass MARIO MARZI (Erkersaal)18.30—20.00 Uhr Konzert IV MARIO MARZI (ADS)Freitag, 15. März 201309.00—13.00 Uhr Masterclass MARIO MARZI (Raum 5.06)Saxophon MARIE-BERNADETTE CHARRIER/ALVARO COLLAO LEÓN/JOEL DIEGERT/MASSIMILIANO GIRARDI/DAMIANO GRANDESSO/DAISUKE ISHIDA/ALEKSANDAR JANKECH/MICHAL KNOT/MARIO MARZI/LARS MLEKUSCH/GEORG PALMANSHOFER/PIETER PELLENS/KRISTINA SERAZIN/ISTVAN SZALLER/NOEMI SZÖKE/MODULE QUARTET (JOEL DIEGERT/CARL-EMMANUEL FISBACH/JOSHUA HYDE/PATRICK STADLER) Live-Elektronik FLORIAN BOGNER/KARLHEINZ ESSL/CHRISTOPHE HAVEL/MIKEL KUEHN/DANIEL OSORIO/HÉCTOR GARCÉS PUELMA Akkordeon BOGDAN LAKETIC/GRZEGORZ STOPA/YUEMING XU-ERTL Gesang MELANIE WURZER Flöte GUSTAV ADOLFO VILLEGAS/EVELYN PENA COMAS Trompete DAMARIS RICHERTS Violine KRZYSZTOF KOKOSZEWSKI/YURI REVICH/JACEK STOLARCZYK Violoncello LOUKIA LOULAKI/VERA TURGENEVA Kontrabass MARKUS ZIERHOFER Perkussion GEORG HASIBEDERKlavier ANNE COUREAU/JACEK OBSTARCZYK/IREN SELELJO/MARIAM VARDZELASHVILI Korrepetition ANA DIMOVA/IREN SELELJOSaxophon-Masterclasses MARIE-BERNADETTE CHARRIER (Conservatoire de Bordeaux)/MARIO MARZI (Conservatorio di Musica G. Verdi di Milano)Roundtable FLORIAN BOGNER (Universität für Angewandte Kunst Wien)/MARIE-BERNADETTE CHARRIER/KARLHEINZ ESSL (Universität für Musik und darstellende Kunst Wien)/CHRISTOPHE HAVEL (Conservatoire de Bordeaux/ESMUC Barcelona)/MIKEL KUEHN (Bowling Green State University USA)/LARS MLEKUSCH (Konservatorium Wien Privatuniversität)/WOLFGANG LIEBHART (Konservatorium Wien Privatuniversität) GERMÁN TORO-PÉREZ (ICST ZhdK) Lectures MARIE-BERNADETTE CHARRIER/ FLORIAN BOGNER/MIKEL KUEHN/GERMÁN TORO-PÉREZ/KARLHEINZ ESSL/CHRISTOPHE HAVELKomponisten MIKEL KUEHN (UA)/GERMÁN TORO-PÉREZ (ÖEA)/IREN MALIZIA (UA)/JULIAN SIFFERT (UA)/DANIEL GOTTFRIED (UA)/ALEXANDER KAISER (UA)/MARKUS ZIERHOFER (UA)/WEN LIU (UA)/HEATHER FRASCH (ÖEA)/DANIEL OSORIO (ÖEA)/CHRISTIAN MINKOWITSCH (UA)/KARLHEINZ ESSL/KARLHEINZ STOCKHAUSEN (ÖEA)/CHRISTIAN LAUBA (ÖEA)/CHRISTOPHE HAVEL (ÖEA)/JUAN ARROYO (ÖEA)/FRANCOIS ROSSÉ (ÖEA)/THIERRY ALLA (ÖEA)/HÉCTOR GARCÉS PUELMA (ÖEA)/THOMAS KESSLER (ÖEA)/FRANCO DONATONI/HECTOR PARRA (ÖEA)/MIGUEL FARIAS (ÖEA)/MACIEJ JABLONSKI (UA)/FEDERICO ZATTERA (UA)/WOJCIECH ZIEMOWIT ZYCH (ÖEA)/RICHARD GALLIANO/EGBERTO GISMONTI/NED ROTHENBERG/ANDREA CERA/MASSIMO BOTTER/VINKO GLOBOKAR Licht JOACHIM ZACH
> Plakat
PRIORITY:5
CLASS:PUBLIC
BEGIN:VALARM
TRIGGER:-PT15M
ACTION:DISPLAY
DESCRIPTION:Reminder
END:VALARM
END:VEVENT
END:VCALENDAR
