BEGIN:VCALENDAR
VERSION:2.0
PRODID:-//TYPO3/NONSGML MUK Events//EN
METHOD:PUBLISH
BEGIN:VTIMEZONE
TZID:W. Europe Standard Time
BEGIN:STANDARD
TZNAME:W. Europe Standard Time
DTSTART:20120523T193000
TZOFFSETFROM:+0200
TZOFFSETTO:+0100
RRULE:FREQ=YEARLY;BYDAY=-1SU;BYMONTH=10
END:STANDARD
BEGIN:DAYLIGHT
TZNAME:W. Europe Standard Time
DTSTART:16010101T020000
TZOFFSETFROM:+0100
TZOFFSETTO:+0200
RRULE:FREQ=YEARLY;BYDAY=-1SU;BYMONTH=3
END:DAYLIGHT
END:VTIMEZONE
BEGIN:VEVENT
ORGANIZER:MAILTO:office@muk.ac.at
UID:bc812c9b-3956-4d17-88de-5e2d152ddc5b
DTSTAMP:20120523T193000Z
DTSTART;TZID="W. Europe Standard Time":20120523T193000
DTEND;TZID="W. Europe Standard Time":20120523T193000
LOCATION:Musik und Kunst Privatuniversität der Stadt Wien, MUK.theater
TRANSP:OPAQUE
SUMMARY:TEE UM DREI
DESCRIPTION:Uraufführung der Musicaloperettevon Sebastian Brandmeir (Musik) und Florian Stanek (Buch & Liedtexte)
Im Rahmen des Forschungsschwerpunktes Operette KONS-erviert. 
2008, das Jahr in dem die Immobilienkrise Großbritannien erreicht. Doch es ist nicht nur ein bewegtes Jahr für die Wirtschaft des Landes, sondern auch für den kleinen LKW-Fahrer Joe Kaschemski im Londoner Vorort Tooting. Als die Krise sich auch auf sein privates Leben ausweitet und seine amourösen Pläne durchkreuzt, beschließt er, alleine den Kampf gegen die übermächtige Immobilienmafia aufzunehmen – mit seinen ganz speziellen Mitteln: Durch eine Verwechslung gelingt es Joe, sich als Besitzer des Londoner Ritz-Hotels auszugeben, eine Gelegenheit, die er nützt, um Rache zu nehmen an den Konzernen die sein Glück gefährden. Schließlich kommt es zum großen Showdown im legendären Nobelhotel. Aber wie wird sich Joe in dieser letzten großen Prüfung schlagen?
TEE UM DREI erzählt von einer abenteuerlichen Suche nach der großen Liebe und beleuchtet satirisch brandaktuelle politische Geschehnisse. Musikalisch angesiedelt zwischen den Genres Operette und Musical lässt das Stück auch inhaltlich zwei Gesellschaftsrealitäten aufeinander treffen – beim Tee um drei.
Die beiden Studenten Florian Stanek und Sebastian Brandmeir sind seit einigen Jahren auch als Verfasser eigener Texte und Musik tätig. Für ihr erstes gemeinsames Projekt TEE UM DREI haben sie die Mischform „Musicaloperette“ gewählt. Florian Stanek (*1988, Wien) hat seine Wurzeln als Autor und Darsteller im kabarettistischen Bereich. Sebastian Brandmeir (*1984, Bayern) ist ausgebildeter Musikerzieher und als Chorleiter tätig. Beide befinden sich im Abschlussjahr ihrer Ausbildung im Bachelorstudiengang Musikalisches Unterhaltungstheater an der Konservatorium Wien Privatuniversität.
DarstellerInnen: Franziska Kemna, Alixa Kalaß, Tanja Petrasek, Salka Weber, Manuel Heuser, Dieter Hörmann, Johannes Nepomuk, Manuel Walchberger  (3. Jahrgang)Jil Clesse, Marja Hennicke, Karolin Konert, Judith von Orelli, Lawrence Karla, Steven Klopp, Marcel Kraml, Michael Souschek, Matthias Weißschuh (2. Jahrgang)
Buch & Liedtexte: Florian StanekMusik: Sebastian BrandmeirRegie: Isabella FritdumMusikalische Leitung: László KöviChoreographie: Marcus TeschBühne: Timo Verse
Weitere Infos uns News auf der Facebook-Seite
PRIORITY:5
CLASS:PUBLIC
BEGIN:VALARM
TRIGGER:-PT15M
ACTION:DISPLAY
DESCRIPTION:Reminder
END:VALARM
END:VEVENT
END:VCALENDAR
