BEGIN:VCALENDAR
VERSION:2.0
PRODID:-//TYPO3/NONSGML MUK Events//EN
METHOD:PUBLISH
BEGIN:VTIMEZONE
TZID:W. Europe Standard Time
BEGIN:STANDARD
TZNAME:W. Europe Standard Time
DTSTART:20131004T091500
TZOFFSETFROM:+0200
TZOFFSETTO:+0100
RRULE:FREQ=YEARLY;BYDAY=-1SU;BYMONTH=10
END:STANDARD
BEGIN:DAYLIGHT
TZNAME:W. Europe Standard Time
DTSTART:16010101T020000
TZOFFSETFROM:+0100
TZOFFSETTO:+0200
RRULE:FREQ=YEARLY;BYDAY=-1SU;BYMONTH=3
END:DAYLIGHT
END:VTIMEZONE
BEGIN:VEVENT
ORGANIZER:MAILTO:office@muk.ac.at
UID:bc812c9b-3956-4d17-88de-5e2d152ddc5b
DTSTAMP:20131004T091500Z
DTSTART;TZID="W. Europe Standard Time":20131004T091500
DTEND;TZID="W. Europe Standard Time":20131004T101500
LOCATION:Musik und Kunst Privatuniversität der Stadt Wien, MUK.podium
TRANSP:OPAQUE
SUMMARY:Symposion Urbane Polyphonie – Lebens(T)RaumStadt
DESCRIPTION:Die Metapher der urbanen Polyphonie verweist sowohl auf die mehrstimmige Beschaffenheit des urbanen Raums als auch auf ihre polyvalente Lesbarkeit.
Der Großstadtmensch wird von vielfältigen Eindrücken überwältigt, ja beinahe "vergewaltigt". In diesem interaktiven Prozess formiert sich sein Seelenleben, sein intellektualistischer Charakter. Dabei werfen das Hören und das Sehen soziologische und ästhetische Fragen der Wahrnehmung auf, die zu einer prozessualen Konstruktion von Raum in zeitlicher und in historischer Hinsicht beitragen. Das Bild, das Georg Simmel in Die Großstädte und das Geistesleben (1903) entwirft, stellt eine solche Komplexität erstmals plastisch dar.
Die Transformation der Stadt lässt sich im Kontrapunkt zwischen dem Individuum und den Zwängen der Gesellschaft ablesen. Zwischen der subjektiven und der objektivierten Wahrnehmung entstehen reelle und erträumte, öffentliche und private Räume, sowie zahlreiche hybride Zwischenräume wie etwa jene der virtuellen Realität.
Das transdisziplinäre Symposium Urbane Polyphonie – Lebens(T)RaumStadt ringt um jene multiplen Stadt-Wahrnehmungen, um die Selbstinszenierung und um die Definition urbaner Räume.Aus den diversen Fachexpertisen und künstlerischen Positionen soll die komplexe Energie des urbanen Gewebes transdisziplinär behandelt werden.
Tagungskosten: Eintritt freiTagungsleitung:Univ. Prof. Dr. Susana ZapkeUniv. Prof. Dipl.-Ing. Dr. Techn. Helmut KroissKonzeption und Organisation:Univ. Prof. Dr. Susana ZapkeUniv. Prof. Dipl.-Ing. Dr. Techn. Helmut KroissDr. Alexander Gratzer
PRIORITY:5
CLASS:PUBLIC
BEGIN:VALARM
TRIGGER:-PT15M
ACTION:DISPLAY
DESCRIPTION:Reminder
END:VALARM
END:VEVENT
END:VCALENDAR
