BEGIN:VCALENDAR
VERSION:2.0
PRODID:-//TYPO3/NONSGML MUK Events//EN
METHOD:PUBLISH
BEGIN:VTIMEZONE
TZID:W. Europe Standard Time
BEGIN:STANDARD
TZNAME:W. Europe Standard Time
DTSTART:20131112T093000
TZOFFSETFROM:+0200
TZOFFSETTO:+0100
RRULE:FREQ=YEARLY;BYDAY=-1SU;BYMONTH=10
END:STANDARD
BEGIN:DAYLIGHT
TZNAME:W. Europe Standard Time
DTSTART:16010101T020000
TZOFFSETFROM:+0100
TZOFFSETTO:+0200
RRULE:FREQ=YEARLY;BYDAY=-1SU;BYMONTH=3
END:DAYLIGHT
END:VTIMEZONE
BEGIN:VEVENT
ORGANIZER:MAILTO:office@muk.ac.at
UID:bc812c9b-3956-4d17-88de-5e2d152ddc5b
DTSTAMP:20131112T093000Z
DTSTART;TZID="W. Europe Standard Time":20131112T093000
DTEND;TZID="W. Europe Standard Time":20131112T130000
LOCATION:Musik und Kunst Privatuniversität der Stadt Wien, MUK.theater
TRANSP:OPAQUE
SUMMARY:Symposion ISCM World New Music Days 2013
DESCRIPTION:Thema: Interkulturelle Moderne und Zeitgenössische Musik - ein Paradoxon?In einem zweitägigen Symposium wird im Kontext der Interkulturalität der Frage nachgegangen, ob und wie zeitgenössische Kunstmusik in verschiedenen Ländern und Kulturkreisen heute präsent ist und wie ihr Selbstverständnis im Spannungsfeld der eigenen Kunst- und Musik-Traditionen einerseits und z. B. der abendländischen Kunstmusikkultur andererseits bewusst gemacht werden kann.Mitwirkende:- Nina Polaschegg- Christian Utz- Sandepp Baghwati- Sebastian Kiefer- Kyle Gann- Heekyung Lee- Jörn Peter Hiekel- Nadja Kayali- Daniel Ender
Weitere Informationen unter www.iscmwnmd2013.org
PRIORITY:5
CLASS:PUBLIC
BEGIN:VALARM
TRIGGER:-PT15M
ACTION:DISPLAY
DESCRIPTION:Reminder
END:VALARM
END:VEVENT
END:VCALENDAR
