BEGIN:VCALENDAR
VERSION:2.0
PRODID:-//TYPO3/NONSGML MUK Events//EN
METHOD:PUBLISH
BEGIN:VTIMEZONE
TZID:W. Europe Standard Time
BEGIN:STANDARD
TZNAME:W. Europe Standard Time
DTSTART:20160623T190000
TZOFFSETFROM:+0200
TZOFFSETTO:+0100
RRULE:FREQ=YEARLY;BYDAY=-1SU;BYMONTH=10
END:STANDARD
BEGIN:DAYLIGHT
TZNAME:W. Europe Standard Time
DTSTART:16010101T020000
TZOFFSETFROM:+0100
TZOFFSETTO:+0200
RRULE:FREQ=YEARLY;BYDAY=-1SU;BYMONTH=3
END:DAYLIGHT
END:VTIMEZONE
BEGIN:VEVENT
ORGANIZER:MAILTO:office@muk.ac.at
UID:bc812c9b-3956-4d17-88de-5e2d152ddc5b
DTSTAMP:20160623T190000Z
DTSTART;TZID="W. Europe Standard Time":20160623T190000
DTEND;TZID="W. Europe Standard Time":20160623T200000
LOCATION:Musik und Kunst Privatuniversität der Stadt Wien, MUK.theater
TRANSP:OPAQUE
SUMMARY:short works
DESCRIPTION:1. bis 3. Jahrgang Studiengang Zeitgenössische Tanzpädagogik
Die Förderung von künstlerischer Kreativität und die Vermittlung handwerklicher Grundlagen der Improvisation, Choreografie und Performance – in Theorie und Praxis – sind zentrale Anliegen im Studiengang Zeitgenössische Tanzpädagogik. Die Studierenden entwickeln ab dem ersten Ausbildungsjahrgang regelmäßig Etüden und Kurzstücke, die je nach Fachbereich unterschiedliche Schwerpunktsetzungen haben. 
Im Rahmen von short works zeigen die Tänzerinnen und Tänzer des 1. bis 3. Jahrgangs ihre eigenständig entwickelten Choreografien. Das künstlerische Spektrum umfasst an diesem Abend interdisziplinäre Projekte, die mit Studierenden anderer Studiengänge einstudiert wurden und Stücke, die in den Fachbereichen Improvisation, Choreografie, Akrobatik und Rhythmik erarbeitet wurden. Die gemeinsame künstlerische Basis aller Arbeiten ist der Zeitgenössische Tanz in seinen vielfältigen Erscheinungsformen.
Künstlerische Leitung: Beata Bauder & Elena Lupták
PRIORITY:5
CLASS:PUBLIC
BEGIN:VALARM
TRIGGER:-PT15M
ACTION:DISPLAY
DESCRIPTION:Reminder
END:VALARM
END:VEVENT
END:VCALENDAR
