BEGIN:VCALENDAR
VERSION:2.0
PRODID:-//TYPO3/NONSGML MUK Events//EN
METHOD:PUBLISH
BEGIN:VTIMEZONE
TZID:W. Europe Standard Time
BEGIN:STANDARD
TZNAME:W. Europe Standard Time
DTSTART:20090401T160000
TZOFFSETFROM:+0200
TZOFFSETTO:+0100
RRULE:FREQ=YEARLY;BYDAY=-1SU;BYMONTH=10
END:STANDARD
BEGIN:DAYLIGHT
TZNAME:W. Europe Standard Time
DTSTART:16010101T020000
TZOFFSETFROM:+0100
TZOFFSETTO:+0200
RRULE:FREQ=YEARLY;BYDAY=-1SU;BYMONTH=3
END:DAYLIGHT
END:VTIMEZONE
BEGIN:VEVENT
ORGANIZER:MAILTO:office@muk.ac.at
UID:bc812c9b-3956-4d17-88de-5e2d152ddc5b
DTSTAMP:20090401T160000Z
DTSTART;TZID="W. Europe Standard Time":20090401T160000
DTEND;TZID="W. Europe Standard Time":20090401T160000
LOCATION:Konservatorium Wien Privatuniversität, Seminarraum Singerstraße
TRANSP:OPAQUE
SUMMARY:Orgelseminar
DESCRIPTION:Leitung: Michael Gailit
Termine im WS 2008/09 jeweils Mittwoch, jeweils 16.00 Uhr (außer Exkursion)
25. 2.  Aristide Cavaillé-Coll
4. 3.  César Franck 1
11. 3.  César Franck 2
18. 3.  Exkursion zu Orgeln in Wien
25. 3. Girolamo Frescobaldi: Fiori musicali
1. 4.  Wahr oder Aprilscherz? Ratestunde über Orgelkuriositäten
22. 4. Norddeutsche Orgelschule
29. 4.  Die Orgelbewegung
27. 5.  György Ligeti: Volumina
3. 6.  Bach und das Concerto grosso
10. 6.  Bach: Toccaten 1
17. 6.  Bach: Toccaten 2
PRIORITY:5
CLASS:PUBLIC
BEGIN:VALARM
TRIGGER:-PT15M
ACTION:DISPLAY
DESCRIPTION:Reminder
END:VALARM
END:VEVENT
END:VCALENDAR
