BEGIN:VCALENDAR
VERSION:2.0
PRODID:-//TYPO3/NONSGML MUK Events//EN
METHOD:PUBLISH
BEGIN:VTIMEZONE
TZID:W. Europe Standard Time
BEGIN:STANDARD
TZNAME:W. Europe Standard Time
DTSTART:20140306T080000
TZOFFSETFROM:+0200
TZOFFSETTO:+0100
RRULE:FREQ=YEARLY;BYDAY=-1SU;BYMONTH=10
END:STANDARD
BEGIN:DAYLIGHT
TZNAME:W. Europe Standard Time
DTSTART:16010101T020000
TZOFFSETFROM:+0100
TZOFFSETTO:+0200
RRULE:FREQ=YEARLY;BYDAY=-1SU;BYMONTH=3
END:DAYLIGHT
END:VTIMEZONE
BEGIN:VEVENT
ORGANIZER:MAILTO:office@muk.ac.at
UID:bc812c9b-3956-4d17-88de-5e2d152ddc5b
DTSTAMP:20140306T080000Z
DTSTART;TZID="W. Europe Standard Time":20140306T080000
DTEND;TZID="W. Europe Standard Time":20140306T110000
LOCATION:Konservatorium Wien Privatuniversität, Raum 5.15
TRANSP:OPAQUE
SUMMARY:Meisterklasse Saxophon mit Christian Wirth
DESCRIPTION:Meisterklasse Saxophon im Rahmen des VIENNA SAXFEST 2014
Christian Wirth absolvierte sein Studium am Pariser Konservatorium, u.a. bei Claude Delangle. Er ist Gewinnzer zahlreicher nationaler und internationaler Preise, u.a. gewann er den ersten Preis des Internationalen Adolphe Sax Wettbewerbs in Saint-Nom La Bretêche.Außerdem spielte er mit dem Harmony Orchestra der Garde Républicaine, im französischem Radio und Fernsehen (z.B. Arte) und als Solist u.a. mit dem Orchestre de Chambre de Lausanne, dem Orchestre des Concerts Lamoureux, dem l’Ensemble Jean-Walter Audoli und dem Ensemble Musique Nouvelle. Er arbeitete mit zahlreichen Dirigenten zusammen, u.a. mit Pierre Boulez, David Robertson, Michel Tabachnick, Jonathan Not, Michel Plasson, J.S. Béreau, Luca Pfaff und Peter Ernst Lassen.Mehr Infos finden Sie hier.

PRIORITY:5
CLASS:PUBLIC
BEGIN:VALARM
TRIGGER:-PT15M
ACTION:DISPLAY
DESCRIPTION:Reminder
END:VALARM
END:VEVENT
END:VCALENDAR
