BEGIN:VCALENDAR
VERSION:2.0
PRODID:-//TYPO3/NONSGML MUK Events//EN
METHOD:PUBLISH
BEGIN:VTIMEZONE
TZID:W. Europe Standard Time
BEGIN:STANDARD
TZNAME:W. Europe Standard Time
DTSTART:20150422T110000
TZOFFSETFROM:+0200
TZOFFSETTO:+0100
RRULE:FREQ=YEARLY;BYDAY=-1SU;BYMONTH=10
END:STANDARD
BEGIN:DAYLIGHT
TZNAME:W. Europe Standard Time
DTSTART:16010101T020000
TZOFFSETFROM:+0100
TZOFFSETTO:+0200
RRULE:FREQ=YEARLY;BYDAY=-1SU;BYMONTH=3
END:DAYLIGHT
END:VTIMEZONE
BEGIN:VEVENT
ORGANIZER:MAILTO:office@muk.ac.at
UID:bc812c9b-3956-4d17-88de-5e2d152ddc5b
DTSTAMP:20150422T110000Z
DTSTART;TZID="W. Europe Standard Time":20150422T110000
DTEND;TZID="W. Europe Standard Time":20150422T210000
LOCATION:Konservatorium Wien Privatuniversität, Raum 5.17
TRANSP:OPAQUE
SUMMARY:Meisterklasse Harfe mit Ladislav Papp
DESCRIPTION:Ladislav PappLadislav Papp, Harfenist, wurde 1979 in Bratislava, Slowakei, geboren. Am Konservatorium in Bratislava studierte er in der Klasse von Prof. Ludmila Sawiczová. Sein erster großer Erfolg war der Erste Preis beim internationalen Wettbewerb in Wien im Jahr 1998. Nicht nur der Preis, sondern auch die Bekanntschaft mit dem weltbekannten Harfenhersteller Victor Salvi, war für seine weitere Karriere ausschlaggebend. Dank der finanziellen Unterstützung von Herrn Salvi, konnte Ladislav Papp sein Studium an der Musikhochschule in Zürich in der Klasse von Prof. Catherine Michel fortsetzen. Außerdem erhielt er aufgrund seines erfolgreichen Studiums ein Stipendium vom Kiwanis Club Zürich. Im Jahr 2003 hat er sein Studium mit der Erlangung des Hochschuldiploms erfolgreich abgeschlossen. Im gleichen Jahr wurde er als Solo-Harfenist der Staatsoper in Darmstadt engagiert und auch in die Meisterklasse von Prof. Xavier de Maistre in Hamburg aufgenommen, wo er sich künstlerisch weiterbildete.Seit 2004 ist er Mitglied des Bühnenorchesters der Staatsoper Wien und gleichzeitig ist er ständiger Substitut der Wiener Philharmoniker. Außerdem widmet er sich intensiv der Kammermusik im Duo mit seiner Frau, Flötistin Justina Papp. Als Solist tritt er nicht nur in Slowakei (Bratislavské hudobné slávnosti) auf, sondern nahm auch auf weiteren wichtigen Veranstaltungen und Festivals in Prag, Budapest und Genf teil. Im Jahr 1999 brachte Ladislav Papp seine erste CD mit dem Titel Harp is my No. 1 heraus.Wettbewerbe und Preise:1998   Reinl-Preis International Wettbewerb, Wien (A) – 1. Preis1998   Wettbewerb des Konservatoriums in Bratislava - 1. Preis1999   Pressburger Musikfestival SK - Internationaler Wettbewerb der jungen          Interpreten 1. Preis2001   Mitteleuropäischer Festival der Konzertkunsts, Žilina (SK) – Kritikerpreis2002   Kiwanis Musikpreis für Harfe, Zürich (CH) – 1. Preis
PRIORITY:5
CLASS:PUBLIC
BEGIN:VALARM
TRIGGER:-PT15M
ACTION:DISPLAY
DESCRIPTION:Reminder
END:VALARM
END:VEVENT
END:VCALENDAR
