BEGIN:VCALENDAR
VERSION:2.0
PRODID:-//TYPO3/NONSGML MUK Events//EN
METHOD:PUBLISH
BEGIN:VTIMEZONE
TZID:W. Europe Standard Time
BEGIN:STANDARD
TZNAME:W. Europe Standard Time
DTSTART:20130323T200000
TZOFFSETFROM:+0200
TZOFFSETTO:+0100
RRULE:FREQ=YEARLY;BYDAY=-1SU;BYMONTH=10
END:STANDARD
BEGIN:DAYLIGHT
TZNAME:W. Europe Standard Time
DTSTART:16010101T020000
TZOFFSETFROM:+0100
TZOFFSETTO:+0200
RRULE:FREQ=YEARLY;BYDAY=-1SU;BYMONTH=3
END:DAYLIGHT
END:VTIMEZONE
BEGIN:VEVENT
ORGANIZER:MAILTO:office@muk.ac.at
UID:bc812c9b-3956-4d17-88de-5e2d152ddc5b
DTSTAMP:20130323T200000Z
DTSTART;TZID="W. Europe Standard Time":20130323T200000
DTEND;TZID="W. Europe Standard Time":20130323T210000
LOCATION:Theater Brett
TRANSP:OPAQUE
SUMMARY:LaBute-Tribute - Ein Theaterabend mit zwei Stücken von Neil LaBute
DESCRIPTION:Lieber Schön  mit Cristina Arends, Yodit Riemersma, Stanislaus Dick, Markus FreistätterRegie: Dora Schneider
Ein kleines Adjektiv entzündet einen Beziehungskrach ungeahnten Ausmaßes: Im Gespräch mit seinem Kumpel Kent bezeichnet Greg das Aussehen seiner Freundin Steph als „normal“.  Als Steph davon erfährt, verlässt sie ihn zutiefst verletzt. Während Greg noch darüber nachdenkt, was er falsch gemacht haben soll, beginnt sein Kumpel Kent eine Affäre mit einer jungen Kollegin. Greg deckt ihn zunächst gegenüber dessen schwangerer Frau Carly, bis er eine alles verändernde Entscheidung trifft.„lieber schön“ handelt von der Angst vor Mittelmäßigkeit in einer von Perfektionszwang und Schönheitswahn beherrschten Gesellschaft.Die Furienmit Verena Altenberger, Cathrin-Sophie Dumont, Christopher GoetzieRegie: Lukas Miko
Paula hat mit ihrem Freund Jimmy eine „Auszeit“ vereinbart. Nun will sie ihn wieder sehen, in einem Cafe. Warum? Will sie mit ihm endgültig Schluss machen? Oder geht es ihr um einen Neuanfang? Und warum taucht Jimmy zusammen mit seiner Schwester Jamie auf?Drei junge Menschen, getrieben von unterschiedlichen Ängsten und doch verbunden in ihrer Sehnsucht nach Zusammenhalt, Loyalität und Aufrichtigkeit.Mit den Studierenden des 2. Jahrgangs Schauspiel

PRIORITY:5
CLASS:PUBLIC
BEGIN:VALARM
TRIGGER:-PT15M
ACTION:DISPLAY
DESCRIPTION:Reminder
END:VALARM
END:VEVENT
END:VCALENDAR
