BEGIN:VCALENDAR
VERSION:2.0
PRODID:-//TYPO3/NONSGML MUK Events//EN
METHOD:PUBLISH
BEGIN:VTIMEZONE
TZID:W. Europe Standard Time
BEGIN:STANDARD
TZNAME:W. Europe Standard Time
DTSTART:20130610T150000
TZOFFSETFROM:+0200
TZOFFSETTO:+0100
RRULE:FREQ=YEARLY;BYDAY=-1SU;BYMONTH=10
END:STANDARD
BEGIN:DAYLIGHT
TZNAME:W. Europe Standard Time
DTSTART:16010101T020000
TZOFFSETFROM:+0100
TZOFFSETTO:+0200
RRULE:FREQ=YEARLY;BYDAY=-1SU;BYMONTH=3
END:DAYLIGHT
END:VTIMEZONE
BEGIN:VEVENT
ORGANIZER:MAILTO:office@muk.ac.at
UID:bc812c9b-3956-4d17-88de-5e2d152ddc5b
DTSTAMP:20130610T150000Z
DTSTART;TZID="W. Europe Standard Time":20130610T150000
DTEND;TZID="W. Europe Standard Time":20130612T203000
LOCATION:Musik und Kunst Privatuniversität der Stadt Wien, MUK.podium
TRANSP:OPAQUE
SUMMARY:kons.wien.taste
DESCRIPTION:Erstmals sind heuer alle öffentlichen Bachelor- und Masterprüfungen der Abteilung Tasteninstrumente in einem eindrucksvollen dreitägigen Programm zu hören:
Montag, 10. Juni 201315.00 UhrBachelorprüfung Klavier
Dienstag, 11. Juni 201313.30 bis 16.30 Uhr Bachelorprüfungen Klavier
Mittwoch, 12. Juni 201310.00 bis 12.00 Uhr Masterprüfungen Akkordeon
13.00 bis 14.00 Uhr Bachelorprüfung Klavier
14.00 bis 19.00 UhrMasterprüfungen Klavier

PRIORITY:5
CLASS:PUBLIC
BEGIN:VALARM
TRIGGER:-PT15M
ACTION:DISPLAY
DESCRIPTION:Reminder
END:VALARM
END:VEVENT
END:VCALENDAR
