BEGIN:VCALENDAR
VERSION:2.0
PRODID:-//TYPO3/NONSGML MUK Events//EN
METHOD:PUBLISH
BEGIN:VTIMEZONE
TZID:W. Europe Standard Time
BEGIN:STANDARD
TZNAME:W. Europe Standard Time
DTSTART:20141211T200000
TZOFFSETFROM:+0200
TZOFFSETTO:+0100
RRULE:FREQ=YEARLY;BYDAY=-1SU;BYMONTH=10
END:STANDARD
BEGIN:DAYLIGHT
TZNAME:W. Europe Standard Time
DTSTART:16010101T020000
TZOFFSETFROM:+0100
TZOFFSETTO:+0200
RRULE:FREQ=YEARLY;BYDAY=-1SU;BYMONTH=3
END:DAYLIGHT
END:VTIMEZONE
BEGIN:VEVENT
ORGANIZER:MAILTO:office@muk.ac.at
UID:bc812c9b-3956-4d17-88de-5e2d152ddc5b
DTSTAMP:20141211T200000Z
DTSTART;TZID="W. Europe Standard Time":20141211T200000
DTEND;TZID="W. Europe Standard Time":20141211T210000
LOCATION:ZWE
TRANSP:OPAQUE
SUMMARY:kons.jazz.session
DESCRIPTION:Konservatorium Wien Privatuniversität presents:Vocal II Ensemble (Leitung: Johannes Herrlich)
Ana Bezjak, Amina Bouroyen, Alma Dzelil, Veronika Morscher; vocalsPrimo Salvati, altosaxLukas Leutgeb, trumpetFerdinand Silberg, tromboneFlorian Nentwich, Jakob Stain; pianoDaniel Schober, bassLukas Klement, drumsAndi Lachberger, arr
Weitere Infos beim ZWE
PRIORITY:5
CLASS:PUBLIC
BEGIN:VALARM
TRIGGER:-PT15M
ACTION:DISPLAY
DESCRIPTION:Reminder
END:VALARM
END:VEVENT
END:VCALENDAR
