BEGIN:VCALENDAR
VERSION:2.0
PRODID:-//TYPO3/NONSGML MUK Events//EN
METHOD:PUBLISH
BEGIN:VTIMEZONE
TZID:W. Europe Standard Time
BEGIN:STANDARD
TZNAME:W. Europe Standard Time
DTSTART:20130621T210000
TZOFFSETFROM:+0200
TZOFFSETTO:+0100
RRULE:FREQ=YEARLY;BYDAY=-1SU;BYMONTH=10
END:STANDARD
BEGIN:DAYLIGHT
TZNAME:W. Europe Standard Time
DTSTART:16010101T020000
TZOFFSETFROM:+0100
TZOFFSETTO:+0200
RRULE:FREQ=YEARLY;BYDAY=-1SU;BYMONTH=3
END:DAYLIGHT
END:VTIMEZONE
BEGIN:VEVENT
ORGANIZER:MAILTO:office@muk.ac.at
UID:bc812c9b-3956-4d17-88de-5e2d152ddc5b
DTSTAMP:20130621T210000Z
DTSTART;TZID="W. Europe Standard Time":20130621T210000
DTEND;TZID="W. Europe Standard Time":20130621T220000
LOCATION:Porgy &amp; Bess
TRANSP:OPAQUE
SUMMARY:kons.jazz.night II - 2. kons.jazz.festival
DESCRIPTION:Bereits zum zweiten Mal zeigt die Abteilung Jazz der Konservatorium Wien Privatuniversität an zwei Nachmittagen und vier aufeinanderfolgenden Abenden, was sie alles zu bieten hat: Beim kons.jazz.festival, das sich aus zwei kons.jazz.afternoons (jeweils um 14 Uhr) und vier kons.jazz.nights (jeweils um 21 Uhr) zusammensetzt, werden sämtliche Bachelorkonzerte und öffentliche Masterprüfungen sowie alle zehn Ensembles, der Jazz-Choir und die zwei Big Bands präsentiert. Ein besonderer Höhepunkt wird dabei die kons.bigbang.night sein: die kons.wien.stageband (conducted by Johannes Herrlich) spielt "Music of Charles Mingus & Beyond" und das kons.wien.jazzorchestra (conducted by Roman Schwaller) präsentiert exklusiv ein Programm des Hamburger Komponisten und Arrangeurs Torsten Maaß.
Programm kons.jazz.night II:Seb Zillner SeptetDominik Fuss, trumpet; Alex Löwenstein, alto sax; Seb Zillner, tenor sax; Georg Schrattenholzer, trombone; Max Tschida, piano; Judith Ferstl, bass; Hubert Bründlmayer, drumsA. J. Trio (Öffentliche Masterprüfung Jazz-Bass Ante Jurinovic)Max Tschida, piano; Ante Jurinovic, electric bass; Peter Primus Frosch, drumsStraight Ahead and Beyond Ensemble Mario GonziAngelika Zach, Barbara Neuhauser, vocals; Peter Perlaki, trumpet; Erik Schuster, Florian Fuss; saxes; Nikola Milenkovic, guitar; Valentin Schuppich, piano; Sebastian Küberl, bass; Daniel Neuhauser, Sebastian Simsa, drumsMatthias Grote's Wrong KidMatthias Grote, guitar, comp. & arr.; Felician Honsig-Erlenburg, alto sax; Andreas Lachberger, tenor sax; Alex Kranapeter, trumpet; Georg Schrattenholzer, trombone; Julius Heise, vibraphon, percussion; Stephan Plecher, piano; Judith Ferstl, bass; Andi Seper, drumsJohannes Wakolbinger Evergreen EnsembleMira Lu Kovacs, vocal; Ritchie Köster, trumpet; Alex Löwenstein, alto sax; Andreas Lachberger, tenor sax; Leo Skorupa, bass clarinet; Florian Sighartner, violin; tba, viola; Anna Lang, cello; Michael Wedenig, guitar; Beate Wiesinger, bass; Bernhard Geigl, fender rhodes; Johannes Wakolbinger, drumsHardbop Ensemble Roman SchwallerDominik Fuss, trumpet; Aaron Hader, alto & tenor sax; Robert Unterköfler, tenor sax; Ben Segal, trombone; Haris Cicic, guitar; Simon Oberleitner, Stephan Plecher, piano; Marc Mezgolits, Sebastian Küberl, bass; Valentin Duit, drums
PRIORITY:5
CLASS:PUBLIC
BEGIN:VALARM
TRIGGER:-PT15M
ACTION:DISPLAY
DESCRIPTION:Reminder
END:VALARM
END:VEVENT
END:VCALENDAR
