BEGIN:VCALENDAR
VERSION:2.0
PRODID:-//TYPO3/NONSGML MUK Events//EN
METHOD:PUBLISH
BEGIN:VTIMEZONE
TZID:W. Europe Standard Time
BEGIN:STANDARD
TZNAME:W. Europe Standard Time
DTSTART:20130621T140000
TZOFFSETFROM:+0200
TZOFFSETTO:+0100
RRULE:FREQ=YEARLY;BYDAY=-1SU;BYMONTH=10
END:STANDARD
BEGIN:DAYLIGHT
TZNAME:W. Europe Standard Time
DTSTART:16010101T020000
TZOFFSETFROM:+0100
TZOFFSETTO:+0200
RRULE:FREQ=YEARLY;BYDAY=-1SU;BYMONTH=3
END:DAYLIGHT
END:VTIMEZONE
BEGIN:VEVENT
ORGANIZER:MAILTO:office@muk.ac.at
UID:bc812c9b-3956-4d17-88de-5e2d152ddc5b
DTSTAMP:20130621T140000Z
DTSTART;TZID="W. Europe Standard Time":20130621T140000
DTEND;TZID="W. Europe Standard Time":20130621T150000
LOCATION:Porgy &amp; Bess
TRANSP:OPAQUE
SUMMARY:kons.jazz.afternoon II - 2. kons.jazz.festival
DESCRIPTION:Bereits zum zweiten Mal zeigt die Abteilung Jazz der Konservatorium Wien Privatuniversität an zwei Nachmittagen und vier aufeinanderfolgenden Abenden, was sie alles zu bieten hat: Beim kons.jazz.festival, das sich aus zwei kons.jazz.afternoons (jeweils um 14 Uhr) und vier kons.jazz.nights (jeweils um 21 Uhr) zusammensetzt, werden sämtliche Bachelorkonzerte und öffentliche Masterprüfungen sowie alle zehn Ensembles, der Jazz-Choir und die zwei Big Bands präsentiert. Ein besonderer Höhepunkt wird dabei die kons.bigbang.night sein: die kons.wien.stageband (conducted by Johannes Herrlich) spielt "Music of Charles Mingus & Beyond" und das kons.wien.jazzorchestra (conducted by Roman Schwaller) präsentiert exklusiv ein Programm des Hamburger Komponisten und Arrangeurs Torsten Maaß.
Programm kons.jazz.afternoon II:TSHIVASara Filipova, vocal; Max Tschida, piano, Hammond; Werner Laher, bass; Sigi Meier, drumsValentin Schuppich TrioValentin Schuppich, piano; Navid Djawadi, bass; Valentin Duit, drumsVocal II Ensemble Johannes HerrlichStefanie Egger, Anja Werber, Robert Summerfield, vocals; Seb Zillner, Genis Bou, tenor sax; Christoph Horn, trombone; Franz Fakitsch, guitar; Irina Pavlovic, piano; Thomas Milacher, bass; Michael Schatzmann, drumsSreten Bukusic GroupDamian Dalla Torre, tenor sax; Dusan Petrovic, guitar; Sreten Bukusic, piano; Rudolf Stenzinger, bass; Bastian Rossmann, drumsSewon Kang QuartetSewon Kang, vocal; Max Tschida, piano; Paul Schreitl, bass; Thomas Gindl, drumsMaTRIOska dreamteamFlorian Sighartner, violin; Sebastian Küberl, bass; Judith Schwarz, drums
PRIORITY:5
CLASS:PUBLIC
BEGIN:VALARM
TRIGGER:-PT15M
ACTION:DISPLAY
DESCRIPTION:Reminder
END:VALARM
END:VEVENT
END:VCALENDAR
