BEGIN:VCALENDAR
VERSION:2.0
PRODID:-//TYPO3/NONSGML MUK Events//EN
METHOD:PUBLISH
BEGIN:VTIMEZONE
TZID:W. Europe Standard Time
BEGIN:STANDARD
TZNAME:W. Europe Standard Time
DTSTART:20130411T193000
TZOFFSETFROM:+0200
TZOFFSETTO:+0100
RRULE:FREQ=YEARLY;BYDAY=-1SU;BYMONTH=10
END:STANDARD
BEGIN:DAYLIGHT
TZNAME:W. Europe Standard Time
DTSTART:16010101T020000
TZOFFSETFROM:+0100
TZOFFSETTO:+0200
RRULE:FREQ=YEARLY;BYDAY=-1SU;BYMONTH=3
END:DAYLIGHT
END:VTIMEZONE
BEGIN:VEVENT
ORGANIZER:MAILTO:office@muk.ac.at
UID:bc812c9b-3956-4d17-88de-5e2d152ddc5b
DTSTAMP:20130411T193000Z
DTSTART;TZID="W. Europe Standard Time":20130411T193000
DTEND;TZID="W. Europe Standard Time":20130411T203000
LOCATION:Das MuTh - Konzertsaal, Bühne &amp; Programm
TRANSP:OPAQUE
SUMMARY:KONS/tanzt/juniors
DESCRIPTION:Performances mit Tanzstudierenden Die TänzerInnen von morgen — Studierende des Studiengangs Zeitgenössischer und Klassischer Tanz sowie SchülerInnen der Vorbereitungsklassen — präsentieren sich dem Publikum mit zwei vielfältigen und abwechslungsreichen Programmen und geben dabei einen Einblick in die künstlerische Vielfalt der Berufsausbildung für Bühnentanz an der Konservatorium Wien Privatuniversität.In der Produktion KONS/tanzt/juniors am Donnerstag, 11. April stellen die zehn bis fünfzehnjährigen SchülerInnen der Vorausbildung ihr tänzerisches Können und ihre Begeisterung für den Tanz unter Beweis. Sie zeigen short works, die in den unterschiedlichen Unterrichtsfächern einstudiert wurden.Im Rahmen von KONS/tanzt präsentieren die TänzerInnen des Studienganges Zeitgenössischer und Klassischer Tanz an zwei Abenden am Donnerstag, 18. April und Freitag, 19. April neue Choreografien aus dem Zeitgenössischen und Neoklassischen Tanz. Die Stücke werden von den Studierenden gemeinsam mit ihren Lehrenden und den Gastchoreografen Douglas Becker und Willi Dorner erarbeitet. Die unterschiedlichen Kreationsprozesse repräsentieren die vielfältigen künstlerischen Anforderungen der gegenwärtigen Berufswelt.
In Kooperation mit dem MuTh.
PRIORITY:5
CLASS:PUBLIC
BEGIN:VALARM
TRIGGER:-PT15M
ACTION:DISPLAY
DESCRIPTION:Reminder
END:VALARM
END:VEVENT
END:VCALENDAR
