BEGIN:VCALENDAR
VERSION:2.0
PRODID:-//TYPO3/NONSGML MUK Events//EN
METHOD:PUBLISH
BEGIN:VTIMEZONE
TZID:W. Europe Standard Time
BEGIN:STANDARD
TZNAME:W. Europe Standard Time
DTSTART:20131107T100000
TZOFFSETFROM:+0200
TZOFFSETTO:+0100
RRULE:FREQ=YEARLY;BYDAY=-1SU;BYMONTH=10
END:STANDARD
BEGIN:DAYLIGHT
TZNAME:W. Europe Standard Time
DTSTART:16010101T020000
TZOFFSETFROM:+0100
TZOFFSETTO:+0200
RRULE:FREQ=YEARLY;BYDAY=-1SU;BYMONTH=3
END:DAYLIGHT
END:VTIMEZONE
BEGIN:VEVENT
ORGANIZER:MAILTO:office@muk.ac.at
UID:bc812c9b-3956-4d17-88de-5e2d152ddc5b
DTSTAMP:20131107T100000Z
DTSTART;TZID="W. Europe Standard Time":20131107T100000
DTEND;TZID="W. Europe Standard Time":20131109T170000
LOCATION:Musik und Kunst Privatuniversität der Stadt Wien, MUK.podium
TRANSP:OPAQUE
SUMMARY:Haydntage - Vorträge und Workshops
DESCRIPTION:Thema 2013: Ludwig van BeethovenSolo- und Kammermusik sowie Lieder mit Hammerklavier
Leitung: Stefan Gottfried
Donnerstag, 7.11.10.00 Uhr: Vortrag11.00—14.00 Uhr: Workshop15.00—18.00 Uhr: Workshop
Freitag, 8.11.10.00 Uhr: Vortrag11.00—14.00 Uhr: Workshop15.00—18.00 Uhr: Workshop
Samstag, 9.11.14.00—16.00 Uhr: Workshop16.00 Uhr: Abschlusskonzert
PRIORITY:5
CLASS:PUBLIC
BEGIN:VALARM
TRIGGER:-PT15M
ACTION:DISPLAY
DESCRIPTION:Reminder
END:VALARM
END:VEVENT
END:VCALENDAR
