BEGIN:VCALENDAR
VERSION:2.0
PRODID:-//TYPO3/NONSGML MUK Events//EN
METHOD:PUBLISH
BEGIN:VTIMEZONE
TZID:W. Europe Standard Time
BEGIN:STANDARD
TZNAME:W. Europe Standard Time
DTSTART:20130608T190000
TZOFFSETFROM:+0200
TZOFFSETTO:+0100
RRULE:FREQ=YEARLY;BYDAY=-1SU;BYMONTH=10
END:STANDARD
BEGIN:DAYLIGHT
TZNAME:W. Europe Standard Time
DTSTART:16010101T020000
TZOFFSETFROM:+0100
TZOFFSETTO:+0200
RRULE:FREQ=YEARLY;BYDAY=-1SU;BYMONTH=3
END:DAYLIGHT
END:VTIMEZONE
BEGIN:VEVENT
ORGANIZER:MAILTO:office@muk.ac.at
UID:bc812c9b-3956-4d17-88de-5e2d152ddc5b
DTSTAMP:20130608T190000Z
DTSTART;TZID="W. Europe Standard Time":20130608T190000
DTEND;TZID="W. Europe Standard Time":20130608T200000
LOCATION:Musik und Kunst Privatuniversität der Stadt Wien, MUK.theater
TRANSP:OPAQUE
SUMMARY:Fragmentabend Oper
DESCRIPTION:Beim diesjährigen Fragmentabend überraschen die Studierenden des Masterstudiengangs Oper mit ausgewählten Szenen aus verschiedenen Werken der Opernliteratur. Mit einem abwechslungsreichen Programm beweisen sie nicht nur ihre Wandlungsfähigkeit auf der Bühne, sondern sorgen für einen spannenden Abend.
Regie und künstlerische Gesamtleitung: Michael PinkertonAssistenz und Produktionsleitung: Stefanie KopinitsKlavier und musikalisch Leitung: Christian KochMusikalische Beratung: Alfred EschwéEinstudierung: Greta Benini, Klaus Busch, Alfred Eschwé, Janko Kastelic, Christian Koch, Andreas Rentsch, Margarita Vaiciulenas, Michaela WangTechnik: Stefan MichelfeitLicht: Dulcinea JanFür Gezim Berisha, Ogulcan Cinar, Albena Evtimova, Lilja Gudmundsdottir, Jeehye Han, Celeste Haworth, Heli Huuki, Frederikke Kampmann, Kim Chul, Kaisa Makkonen, Fjola Nikulasdottir, Byungmo Park, Christina Parson und Wendy Wang ist dieser Auftritt Teil ihrer öffentlichen Masterprüfung.Sergio Tallo-Torres (BA Sologesang) als Gast 
PRIORITY:5
CLASS:PUBLIC
BEGIN:VALARM
TRIGGER:-PT15M
ACTION:DISPLAY
DESCRIPTION:Reminder
END:VALARM
END:VEVENT
END:VCALENDAR
