BEGIN:VCALENDAR
VERSION:2.0
PRODID:-//TYPO3/NONSGML MUK Events//EN
METHOD:PUBLISH
BEGIN:VTIMEZONE
TZID:W. Europe Standard Time
BEGIN:STANDARD
TZNAME:W. Europe Standard Time
DTSTART:20140304T130000
TZOFFSETFROM:+0200
TZOFFSETTO:+0100
RRULE:FREQ=YEARLY;BYDAY=-1SU;BYMONTH=10
END:STANDARD
BEGIN:DAYLIGHT
TZNAME:W. Europe Standard Time
DTSTART:16010101T020000
TZOFFSETFROM:+0100
TZOFFSETTO:+0200
RRULE:FREQ=YEARLY;BYDAY=-1SU;BYMONTH=3
END:DAYLIGHT
END:VTIMEZONE
BEGIN:VEVENT
ORGANIZER:MAILTO:office@muk.ac.at
UID:bc812c9b-3956-4d17-88de-5e2d152ddc5b
DTSTAMP:20140304T130000Z
DTSTART;TZID="W. Europe Standard Time":20140304T130000
DTEND;TZID="W. Europe Standard Time":20140304T163000
LOCATION:Konservatorium Wien Privatuniversität, Raum 5.15
TRANSP:OPAQUE
SUMMARY:Erasmus Meisterklasse Saxophon mit Arno Bornkamp
DESCRIPTION:Erasmus Meisterklasse im Rahmen des VIENNA SAXFEST 2014
Der holländische Saxophonist Arno Bornkamp studierte am Sweelinck Conservatory in Amsterdam bei Ed Bogaard und schloss sein Studium mit Auszeichnung ab. Außerdem studierte er in Frankreich bei Daniël Deffayet und Jean-Marie Londeix, in Japan bei Ryo Noda und arbeitete mit den Komponisten Luciano Berio und Karlheinz Stockhausen. Zurzeit leitet Arno Bornkamp die internationale Saxophonklasse am Conservatory of Amsterdam.Er ist sowohl als Solist als auch Kammermusiker tätig, u.a. spielt er seit 30 Jahren mit dem renommierten Aurelia Saxophon Quartett. Seine zahlreichen Meisterklassen, Konzerte, Vorträge und Festivalbesuche führten ihn durch ganz Europa, die USA, Südamerika und Asien. Außerdem dokumentieren mehrere CD-Aufnahmen sein künstlerisches Schaffen.Mehr Infos unter www.arnobornkamp.at
PRIORITY:5
CLASS:PUBLIC
BEGIN:VALARM
TRIGGER:-PT15M
ACTION:DISPLAY
DESCRIPTION:Reminder
END:VALARM
END:VEVENT
END:VCALENDAR
