BEGIN:VCALENDAR
VERSION:2.0
PRODID:-//TYPO3/NONSGML MUK Events//EN
METHOD:PUBLISH
BEGIN:VTIMEZONE
TZID:W. Europe Standard Time
BEGIN:STANDARD
TZNAME:W. Europe Standard Time
DTSTART:20140306T140000
TZOFFSETFROM:+0200
TZOFFSETTO:+0100
RRULE:FREQ=YEARLY;BYDAY=-1SU;BYMONTH=10
END:STANDARD
BEGIN:DAYLIGHT
TZNAME:W. Europe Standard Time
DTSTART:16010101T020000
TZOFFSETFROM:+0100
TZOFFSETTO:+0200
RRULE:FREQ=YEARLY;BYDAY=-1SU;BYMONTH=3
END:DAYLIGHT
END:VTIMEZONE
BEGIN:VEVENT
ORGANIZER:MAILTO:office@muk.ac.at
UID:bc812c9b-3956-4d17-88de-5e2d152ddc5b
DTSTAMP:20140306T140000Z
DTSTART;TZID="W. Europe Standard Time":20140306T140000
DTEND;TZID="W. Europe Standard Time":20140306T210000
LOCATION:Musik und Kunst Privatuniversität der Stadt Wien, MUK.studio
TRANSP:OPAQUE
SUMMARY:Erasmus Meisterklasse - Klavier zu vier Händen: Konzert mit Teresa Trevisan und Flavio Zaccaria
DESCRIPTION:
Meisterklasse & Konzert
Mittwoch, 5. März 201416-18 Uhr, Raum 4.08 (Meisterklasse)18-21 Uhr, KONS.studio (Meisterklasse)Donnerstag, 6. März 201414-21 Uhr, KONS.studio (Meisterklasse)Freitag, 7. März 201418.30 Uhr Konzert, KONS.podium
Teresa Trevisan und Flavio Zaccaria gaben ihr Debut als Piano Duo 2002 im Rahmen des Festivals für klassische Musik in Bitola, Mazedonien, mit Bachs Brandburgischen Konzerten in einem fast unbekannten Arrangement von Max Reger und sind seitdem sowohl international als auch national sehr bekannt. Das erfolgreiche Piano-Duo hielt bis jetzt Meisterklassen u.a. an der Oulu Universität in Finnland (2007), am Conservatorio Superior de Musica Manuel Massotti Littel in Spanien (2008), am Conservatoire Royal de Mons (2011-2012-2013), an der Yasar University of Izmir (2011) und über eine Videokonferenz im Rahmen des LOLA Projekts, an der Fort Worth Texas Christian University (USA).Teresa Trevisan erhielt ihre Ausbildung am Conservatorio di musica Giuseppe Tartini in Triest. Danach folgte das Studium an der Ecole normale de Musique Alfred Cortot in Paris bei Aquiles Delle Vigne. Die italienische Pianistin wurde mehrfach bei internationalen und nationalen Wettbewerben ausgezeichnet, zahlreiche Konzerte im In- und Ausland zeugen von ihrem künstlerischen Schaffen. Zurzeit ist Teresa Trevisan Professorin am Conservatorio di musica Giuseppe Tartini in Triest.Flavio Zaccaria absolvierte sein Klavierstudium am Music Conservatory Benedetto Marcello of Venice als Student bei Eugenio Bagnoli. Als Solist ist er Preisträger zahlreicher nationaler und internationaler Wettbewerbe, sein künstlerisches Interesse galt aber immer schon dem Klavier-Duo. Er startete seine Karriere gemeinsam mit der Pianistin Antonella Perini, seit 2002 spielt er mit Teresa Trevisan. Zurzeit lehrt er am Conservatorio di musica Giuseppe Tartini in Triest. 

PRIORITY:5
CLASS:PUBLIC
BEGIN:VALARM
TRIGGER:-PT15M
ACTION:DISPLAY
DESCRIPTION:Reminder
END:VALARM
END:VEVENT
END:VCALENDAR
