BEGIN:VCALENDAR
VERSION:2.0
PRODID:-//TYPO3/NONSGML MUK Events//EN
METHOD:PUBLISH
BEGIN:VTIMEZONE
TZID:W. Europe Standard Time
BEGIN:STANDARD
TZNAME:W. Europe Standard Time
DTSTART:20260423T180000
TZOFFSETFROM:+0200
TZOFFSETTO:+0100
RRULE:FREQ=YEARLY;BYDAY=-1SU;BYMONTH=10
END:STANDARD
BEGIN:DAYLIGHT
TZNAME:W. Europe Standard Time
DTSTART:16010101T020000
TZOFFSETFROM:+0100
TZOFFSETTO:+0200
RRULE:FREQ=YEARLY;BYDAY=-1SU;BYMONTH=3
END:DAYLIGHT
END:VTIMEZONE
BEGIN:VEVENT
ORGANIZER:MAILTO:office@muk.ac.at
UID:bc812c9b-3956-4d17-88de-5e2d152ddc5b
DTSTAMP:20260423T180000Z
DTSTART;TZID="W. Europe Standard Time":20260423T180000
DTEND;TZID="W. Europe Standard Time":20260423T210000
LOCATION:Musik und Kunst Privatuniversität der Stadt Wien, Raum 2.19
TRANSP:OPAQUE
SUMMARY:Erasmus-Masterclass Klavier und Klavierkammermusik mit Martyna Zakrzewska (Krzysztof Penderecki Academy of Music  Krakow)
DESCRIPTION:Performance aspects of time and structure in contemporary solo piano and chamber music
Termine: Do, 23. April 2026, 18:00 Uhr | Raum 2.19, Johannesgasse 4a: Introduction to prepared pianoDo, 23. April 2026, 19:00—21:00 Uhr | Raum 2.19, Johannesgasse 4a: Teaching (solo/chamber music)Fr, 24. April 2026, 10:00—14:00 Uhr | Raum 2.15, Johannesgasse 4a: Teaching (solo/chamber music)Di, 28. April 2026, 14:00 Uhr | Musikverein Wien: Pre-concert talk Salvatore Sciarrino's “La navigazione notturna”
Martyna Zakrzewska ist Pianistin (Solistin und Kammermusikerin) mit Schwerpunkt auf zeitgenössischer Musik sowie promovierte Künstlerin. Sie studierte in Krakau und Köln u. a. bei Milena Kędra und David Smeyers (Klasse Pierre-Laurent Aimard). 2021 schloss sie ihr Doktoratsstudium mit Auszeichnung ab; aktuell erweitert sie ihre künstlerische Praxis durch ein Dirigierstudium in Katowice.Als Interpretin ist sie international bei Festivals wie Wien Modern, Acht Brücken, Warschauer Herbst und Sacrum Profanum präsent und arbeitet regelmäßig mit führenden Ensembles und Orchestern der Neuen Musik. Zahlreiche Uraufführungen sowie Preise und Stipendien unterstreichen ihre künstlerische Tätigkeit.Sie ist Mitbegründerin des Ensembles Spółdzielnia Muzyczna (Siemens Ensemblepreis) und realisiert eigene Projekte an der Schnittstelle von Interpretation, Forschung und zeitgenössischer Musikpraxis. Seit 2024 ist sie als Assistenzprofessorin in Krakau tätig.
PRIORITY:5
CLASS:PUBLIC
BEGIN:VALARM
TRIGGER:-PT15M
ACTION:DISPLAY
DESCRIPTION:Reminder
END:VALARM
END:VEVENT
END:VCALENDAR
