BEGIN:VCALENDAR
VERSION:2.0
PRODID:-//TYPO3/NONSGML MUK Events//EN
METHOD:PUBLISH
BEGIN:VTIMEZONE
TZID:W. Europe Standard Time
BEGIN:STANDARD
TZNAME:W. Europe Standard Time
DTSTART:20120328T170000
TZOFFSETFROM:+0200
TZOFFSETTO:+0100
RRULE:FREQ=YEARLY;BYDAY=-1SU;BYMONTH=10
END:STANDARD
BEGIN:DAYLIGHT
TZNAME:W. Europe Standard Time
DTSTART:16010101T020000
TZOFFSETFROM:+0100
TZOFFSETTO:+0200
RRULE:FREQ=YEARLY;BYDAY=-1SU;BYMONTH=3
END:DAYLIGHT
END:VTIMEZONE
BEGIN:VEVENT
ORGANIZER:MAILTO:office@muk.ac.at
UID:bc812c9b-3956-4d17-88de-5e2d152ddc5b
DTSTAMP:20120328T170000Z
DTSTART;TZID="W. Europe Standard Time":20120328T170000
DTEND;TZID="W. Europe Standard Time":20120328T200000
LOCATION:Konservatorium Wien Privatuniversität, Standort Bräunerstraße
TRANSP:OPAQUE
SUMMARY:Eleonora Ringler-Pascu - Erasmus-Meisterklasse Schauspiel: Theorie des Dramas
DESCRIPTION:Thema: Theorie des Dramas; Vertiefung: Kurzdramen
Lebenlsauf Dr. Eleonora Ringler-Pascu Ausbildung:1975-1979 Universität aus Timisoara, Geisteswissenschaftliche Hochschule, Fachrichtung Anglistik und Germanistik; Lizenz-Diplom Juli 1979; Diplomarbeit: “Novelistic and Social Structures in Steinbeck’s Prose Fiction”; wissenschaftlicher Leiter: Univ. Prof. Dr. Marcel Pop-Cornis1994-1997 Universität Wien, Institut für Germanistik, Doktoratstudium; Promotion zum Doktor der Philosophie (Dr. Phil.), 2. Juni 1997; Dissertation: “Unterwegs zum Ungesagten. Zu Peter Handkes Theaterstücken Das Spiel vom Fragen und Die Stunde da wir nichts voneinander wußten mit Blick über die Postmoderne”; wissenschaftlicher Leiter: Univ. Prof. Dr. Wendelin Schmidt-DenglerBerufliche Tätigkeiten:1979-1983 Lyzeum Nr.3 und Lyzeum für Mathematik und Physik “Roman Voda“,  Roman – Fremdsprachenlehrerin für Deutsch (DaF) und Englisch1982 – Referendariatsprüfung/ Pragmatisierung im Fach Anglistik und Germanistik, Universität “A. I. Cuza” Iasi1983-1990 Lyzeum für Mathematik „Nikolaus Lenau“ Timisoara – Lehrerin für Deutsch  als Muttersprache (DaM) und Englisch1987 –  Studienratprüfung (II. Grad-Prüfung in Germanistik), Universität „A.I.Cuza“ Iasi1990-1997 West-Universität Timisoara, Lehrstuhl für deutsche Sprache und Literatur – Universitätsassistentin für DaF und neuere Literatur1997 - Promotion zum Doktor der Philosophie, Universität Wien1997-2000 West-Universität Timisoara, Institut für Germanistik, Theaterwissenschaften und „Tibiscus“-Universität Timisoara, Institut für moderne Sprachen – Lektor für neuere Literatur und DaF-Unterricht2000 – 2008 (Sept.) West-Universität Timisoara, Geisteswissenschaftliche Hochschule, Institut für Germanistik - Dozentin für neuere Literatur ab 2008 (Okt.- bis heute) - West-Universität Timisoara, Musikhochschule, Institut für Schauspielkunst (Abteilung in deutscher Sprache) – Dozentin für Theorie des Theaters, Theatergeschichte und Theaterästhetik – Institutsleiterin ab Oktober 2010Mitgliedschaft in wissenschaftlichen Organisationen und Vereinen:-Gesellschaft der Germanisten aus Rumänien, Zweigstelle Temeswar (Gründungsmitglied und Vorsitzende, Zeitspanne 1993-1995)- Deutsche Kulturgesellschaft, Zweigstelle Temeswar-Internationale Lenau-Gesellschaft, Österreich-„Franz Werfel“ Internationale Gesellschaft, Österreich-„Thalia Germanica“, Deutschland/Kanada-Schriftstellerverband aus Rumänien, Zweigstelle Temeswar-Verlagsberaterin für deutsche Bücher beim Excelsior Art Verlag, Temeswar-Arbeitskreis der Banater Jungakademiker, Temeswar (Gründungsmitglied und Vorsitzende, Zeitspanne 1991-1994)Preise:Preis für literarische Übersetzung für das Jahr 1995, Bundesministerium für Wissenschaft, Forschung und Kunst aus ÖsterreichÜbersetzerpreis des Schriftstellerverbandes aus Rumänien und Nikolaus Berwanger-Preis für das Jahr 2000 - Peter Handke „Die Abwesenheit“
PRIORITY:5
CLASS:PUBLIC
BEGIN:VALARM
TRIGGER:-PT15M
ACTION:DISPLAY
DESCRIPTION:Reminder
END:VALARM
END:VEVENT
END:VCALENDAR
