BEGIN:VCALENDAR
VERSION:2.0
PRODID:-//TYPO3/NONSGML MUK Events//EN
METHOD:PUBLISH
BEGIN:VTIMEZONE
TZID:W. Europe Standard Time
BEGIN:STANDARD
TZNAME:W. Europe Standard Time
DTSTART:20080521T193000
TZOFFSETFROM:+0200
TZOFFSETTO:+0100
RRULE:FREQ=YEARLY;BYDAY=-1SU;BYMONTH=10
END:STANDARD
BEGIN:DAYLIGHT
TZNAME:W. Europe Standard Time
DTSTART:16010101T020000
TZOFFSETFROM:+0100
TZOFFSETTO:+0200
RRULE:FREQ=YEARLY;BYDAY=-1SU;BYMONTH=3
END:DAYLIGHT
END:VTIMEZONE
BEGIN:VEVENT
ORGANIZER:MAILTO:office@muk.ac.at
UID:bc812c9b-3956-4d17-88de-5e2d152ddc5b
DTSTAMP:20080521T193000Z
DTSTART;TZID="W. Europe Standard Time":20080521T193000
DTEND;TZID="W. Europe Standard Time":20080521T193000
LOCATION:Musik und Kunst Privatuniversität der Stadt Wien, MUK.theater
TRANSP:OPAQUE
SUMMARY:Die Piraten von Penzance
DESCRIPTION:Operette von Gilbert und SullivanNeubearbeitung nach einer Broadway-Aufführung durch das New York Shakespeare Festival
Eine Produktion der Abteilung Musikalisches Unterhaltungstheater
Die Piraten kommen! Ob in Penzance, in der Karibik oder im World Wide Web: Die Meere und Medien sind belagert! Schon die Operette Die Piraten von Penzance wurde von den englischen Autoren 1879 in New York uraufgeführt, um der Werkpiraterie der Amerikaner zu entgehen.Mit ihrer Interpretation der spritzigen, witzigen Einfälle der englischen Meisterunterhalter Gilbert und Sullivan leisten die Studierenden der Abteilung Musikalisches Unterhaltungstheater (Vorstand: Erhard Pauer) einen Beitrag zum Thema. Sie verweisen als humorvolle „Opfer der Pflicht“ alle Piraterieverdächtigen in die Schranken.Musikalische Leitung  Franz Josef BreznikRegie und Bühne  Isabella FritdumChoreographie  Lilly KuglerKostüme   Doris RichterLichtdesign   Barbara Dulcinea Jan 
DarstellerInnen:3. Jahrgang:  Stefan BischoffBirgit BreinschmidDaniel FeikJulian LoomanSimone NiedererFlorian ResetaritsBirgit RieglerAnna VeitAndreas Wanasek2. Jahrgang:  Stefan BleiberschnigThomas DapozBernd KainzDustin Peters1. Jahrgang:  Christof Messner
PRIORITY:5
CLASS:PUBLIC
BEGIN:VALARM
TRIGGER:-PT15M
ACTION:DISPLAY
DESCRIPTION:Reminder
END:VALARM
END:VEVENT
END:VCALENDAR
