BEGIN:VCALENDAR
VERSION:2.0
PRODID:-//TYPO3/NONSGML MUK Events//EN
METHOD:PUBLISH
BEGIN:VTIMEZONE
TZID:W. Europe Standard Time
BEGIN:STANDARD
TZNAME:W. Europe Standard Time
DTSTART:20100507T193000
TZOFFSETFROM:+0200
TZOFFSETTO:+0100
RRULE:FREQ=YEARLY;BYDAY=-1SU;BYMONTH=10
END:STANDARD
BEGIN:DAYLIGHT
TZNAME:W. Europe Standard Time
DTSTART:16010101T020000
TZOFFSETFROM:+0100
TZOFFSETTO:+0200
RRULE:FREQ=YEARLY;BYDAY=-1SU;BYMONTH=3
END:DAYLIGHT
END:VTIMEZONE
BEGIN:VEVENT
ORGANIZER:MAILTO:office@muk.ac.at
UID:bc812c9b-3956-4d17-88de-5e2d152ddc5b
DTSTAMP:20100507T193000Z
DTSTART;TZID="W. Europe Standard Time":20100507T193000
DTEND;TZID="W. Europe Standard Time":20100507T193000
LOCATION:
TRANSP:OPAQUE
SUMMARY:Der Zigeunerbaron
DESCRIPTION:Produktion des Lehrgangs Klassische Operette (Leitung: Wolfgang Dosch)
Operette in drei Akten von Johann StraußLibretto von Ignaz Schnitzer, basierend auf einer Novelle von Maurus Jókai
Der Zigeunerbaron ist eines der bemerkenswertesten, vielschichtigsten und auch inhomogensten Meisterwerke des österreichischen Musiktheaters. Die Sehnsucht der Autoren nach einer großen, dramatischen Geschichte über das Zusammenleben verschiedener Völker, deren Anspruch auf Land und persönliches Glück in kriegerischen Zeiten, vertont mit den Mitteln und der Leidenschaft der großen Oper, diese Sehnsucht ist in jedem Takt der Strauß’schen Komposition zu spüren. Dem Lehrgang Klassische Operette geht es in seinem Diskurs mit den Autoren, ihrem Werk in seiner Urgestalt und dessen Rezeption um seine Fabel und seine Aussage, wie auch um eine eigene persönliche Auseinandersetzung und Interpretation des Werkes. Die Aufführung ist daher eine kammertheatralische – eine Art „Kammeroper(ette), eine Fabel mit Musik“, bei der jedoch die Fabel und die Musik an Klarheit gewinnen. 
PRIORITY:5
CLASS:PUBLIC
BEGIN:VALARM
TRIGGER:-PT15M
ACTION:DISPLAY
DESCRIPTION:Reminder
END:VALARM
END:VEVENT
END:VCALENDAR
