BEGIN:VCALENDAR
VERSION:2.0
PRODID:-//TYPO3/NONSGML MUK Events//EN
METHOD:PUBLISH
BEGIN:VTIMEZONE
TZID:W. Europe Standard Time
BEGIN:STANDARD
TZNAME:W. Europe Standard Time
DTSTART:20130313T193000
TZOFFSETFROM:+0200
TZOFFSETTO:+0100
RRULE:FREQ=YEARLY;BYDAY=-1SU;BYMONTH=10
END:STANDARD
BEGIN:DAYLIGHT
TZNAME:W. Europe Standard Time
DTSTART:16010101T020000
TZOFFSETFROM:+0100
TZOFFSETTO:+0200
RRULE:FREQ=YEARLY;BYDAY=-1SU;BYMONTH=3
END:DAYLIGHT
END:VTIMEZONE
BEGIN:VEVENT
ORGANIZER:MAILTO:office@muk.ac.at
UID:bc812c9b-3956-4d17-88de-5e2d152ddc5b
DTSTAMP:20130313T193000Z
DTSTART;TZID="W. Europe Standard Time":20130313T193000
DTEND;TZID="W. Europe Standard Time":20130313T203000
LOCATION:Das MuTh - Konzertsaal, Bühne &amp; Programm
TRANSP:OPAQUE
SUMMARY:Così fan tutte
DESCRIPTION:Dramma giocoso in zwei AktenMusik von Wolfgang Amadeus MozartLibretto von Lorenzo Da PonteIn italienischer Sprache Diese turbulente musikalische Komödie aus der Feder des Großmeisters Wolfgang Amadeus Mozart wird in diesem Jahr als Großproduktion des Masterstudiengangs Oper erarbeitet. Es ist die erste klassische Oper, die im neu eröffneten MuTh — Konzertsaal der Wiener Sängerknaben zur Aufführung gebracht wird.Ferrando und Guglielmo beschließen, angeregt durch eine Wette mit ihrem Freund Alfonso, die Treue ihrer Verlobten auf die Probe zu stellen. Sie geben vor, in den Krieg zu ziehen, verkleiden sich und kehren zurück, um jeweils die Geliebte des Freundes zu verführen. Despina, die Zofe der beiden Damen, ist ihnen dabei behilflich. Nach anfänglichem Zögern werden die Frauen schwach. Don Alfonso sieht sich als Gewinner und in seiner Behauptung „Così fan tutte – So machen es alle” bestätigt. Nachdem alles als Spiel entlarvt wird, müssen sich die Paare mit sehr gemischten Gefühlen gegenseitig verzeihen.Mit Marco Ascani, Gëzim Berisha, Albena Evtimova, Lilja Gudmundsdottir, Celeste Haworth, Ardalan Jabbari, Frederikke Kampmann, Chul Kim, Vanessa Lanch, Kaisa Makkonen, Fjóla Kristín Nikulásdóttir, Byungmo Park, Christina Parson, Sergio Tallo Torres Wendy Wang (Studierende der KONSuni) und Tomasz Pietak (als Gast)Regie und künstlerische Gesamtleitung: Michael PinkertonRegieassistenz und Produktionsleitung: Stefanie KopinitsMusikalische Leitung: Erich PolzMusikalische Supervision: Alfred Eschwé, Georg MarkOrchester der Konservatorium Wien PrivatuniversitätIn Kooperation mit dem MuTh.
PRIORITY:5
CLASS:PUBLIC
BEGIN:VALARM
TRIGGER:-PT15M
ACTION:DISPLAY
DESCRIPTION:Reminder
END:VALARM
END:VEVENT
END:VCALENDAR
