BEGIN:VCALENDAR
VERSION:2.0
PRODID:-//TYPO3/NONSGML MUK Events//EN
METHOD:PUBLISH
BEGIN:VTIMEZONE
TZID:W. Europe Standard Time
BEGIN:STANDARD
TZNAME:W. Europe Standard Time
DTSTART:20060405T193000
TZOFFSETFROM:+0200
TZOFFSETTO:+0100
RRULE:FREQ=YEARLY;BYDAY=-1SU;BYMONTH=10
END:STANDARD
BEGIN:DAYLIGHT
TZNAME:W. Europe Standard Time
DTSTART:16010101T020000
TZOFFSETFROM:+0100
TZOFFSETTO:+0200
RRULE:FREQ=YEARLY;BYDAY=-1SU;BYMONTH=3
END:DAYLIGHT
END:VTIMEZONE
BEGIN:VEVENT
ORGANIZER:MAILTO:office@muk.ac.at
UID:bc812c9b-3956-4d17-88de-5e2d152ddc5b
DTSTAMP:20060405T193000Z
DTSTART;TZID="W. Europe Standard Time":20060405T193000
DTEND;TZID="W. Europe Standard Time":20060405T193000
LOCATION:Theater Akzent
TRANSP:OPAQUE
SUMMARY:ballett/modern/tanzt
DESCRIPTION:ballett/modern/tanzt präsentiert mit einem vielfältigen Programm die 80 Studierenden der Abteilung Ballett. Die ZuschauerInnen haben dabei die Gelegenheit die Studierenden der beiden Bachelor Studienrichtungen Ballett und Modern sowie die fünf Klassen des Vorbereitungslehrganges in abwechslungsreichen Choreografien zu sehen. Der Abend spannt einen Bogen vom Ballett über Modernen Tanz hin zumZeitgenössischen Tanz und repräsentiert damit auch das umfassende Ausbildungsspektrum, der Tanzausbildung an der Konservatorium Wien Privatuniversität. Im ersten Teil des Abends werden Choreografien aus dem klassischen Repertoire, Historischer Tanz, Charakter Tanz sowie Akrobatik und Gymnastik präsentiert. Der zweite Teil steht im Zeichen von modernem und zeitgenössischen Tanz. Das Lehrendenteam der Abteilung Ballett zeichnet für die Einstudierung beziehungsweise für die Kreation der Choreografien verantwortlich. Als diesjähriger Gast der Abteilung entwickelt Esther Balfe eine Kurzstück mit den Studierenden der Studienrichtung Modern.
PRIORITY:5
CLASS:PUBLIC
BEGIN:VALARM
TRIGGER:-PT15M
ACTION:DISPLAY
DESCRIPTION:Reminder
END:VALARM
END:VEVENT
END:VCALENDAR
