BEGIN:VCALENDAR
VERSION:2.0
PRODID:-//TYPO3/NONSGML MUK Events//EN
METHOD:PUBLISH
BEGIN:VTIMEZONE
TZID:W. Europe Standard Time
BEGIN:STANDARD
TZNAME:W. Europe Standard Time
DTSTART:20150519T193000
TZOFFSETFROM:+0200
TZOFFSETTO:+0100
RRULE:FREQ=YEARLY;BYDAY=-1SU;BYMONTH=10
END:STANDARD
BEGIN:DAYLIGHT
TZNAME:W. Europe Standard Time
DTSTART:16010101T020000
TZOFFSETFROM:+0100
TZOFFSETTO:+0200
RRULE:FREQ=YEARLY;BYDAY=-1SU;BYMONTH=3
END:DAYLIGHT
END:VTIMEZONE
BEGIN:VEVENT
ORGANIZER:MAILTO:office@muk.ac.at
UID:bc812c9b-3956-4d17-88de-5e2d152ddc5b
DTSTAMP:20150519T193000Z
DTSTART;TZID="W. Europe Standard Time":20150519T193000
DTEND;TZID="W. Europe Standard Time":20150519T203000
LOCATION:Musik und Kunst Privatuniversität der Stadt Wien, MUK.theater
TRANSP:OPAQUE
SUMMARY:Bachelor-Show Schauspiel
DESCRIPTION:Verena Altenberger, Christina Arends, Cathrine Dumont, Markus Freistätter und Yodit Riemersma treten an diesem Abend ein (vorläufig) letztes Mal auf die Bühne an der KONSuni. Als SolistInnen und im Ensemble stellen sie sich hier zum Abschluss ihrer vierjährigen Ausbildung noch einmal ins Rampenlicht, um das Erlernte vor Publikum und einer namhaften Prüfungsjury zu zeigen. Nach dem erfolgreich absolvierten Studium wird den NachwuchsschauspielerInnen der Titel „Bachelor of Arts“ verliehen und sie sind auf dem besten Weg, „die Bretter, die die Welt bedeuten“ zu erobern. Toi, toi, toi!
PRIORITY:5
CLASS:PUBLIC
BEGIN:VALARM
TRIGGER:-PT15M
ACTION:DISPLAY
DESCRIPTION:Reminder
END:VALARM
END:VEVENT
END:VCALENDAR
