BEGIN:VCALENDAR
VERSION:2.0
PRODID:-//TYPO3/NONSGML MUK Events//EN
METHOD:PUBLISH
BEGIN:VTIMEZONE
TZID:W. Europe Standard Time
BEGIN:STANDARD
TZNAME:W. Europe Standard Time
DTSTART:20130622T180000
TZOFFSETFROM:+0200
TZOFFSETTO:+0100
RRULE:FREQ=YEARLY;BYDAY=-1SU;BYMONTH=10
END:STANDARD
BEGIN:DAYLIGHT
TZNAME:W. Europe Standard Time
DTSTART:16010101T020000
TZOFFSETFROM:+0100
TZOFFSETTO:+0200
RRULE:FREQ=YEARLY;BYDAY=-1SU;BYMONTH=3
END:DAYLIGHT
END:VTIMEZONE
BEGIN:VEVENT
ORGANIZER:MAILTO:office@muk.ac.at
UID:bc812c9b-3956-4d17-88de-5e2d152ddc5b
DTSTAMP:20130622T180000Z
DTSTART;TZID="W. Europe Standard Time":20130622T180000
DTEND;TZID="W. Europe Standard Time":20130622T190000
LOCATION:Musik und Kunst Privatuniversität der Stadt Wien, MUK.theater
TRANSP:OPAQUE
SUMMARY:Bachelor-Show Musikalisches Unterhaltungstheater
DESCRIPTION:Manuel Heuser, Dieter Hörmann, Franziska Kemna, Alixa Kalasz, Tanja Petrasek, Johannes Nepomuk, Manuel Walcherberger und Salka Weber befinden sich im letzten Jahr ihrer Ausbildung an der KONSuni. Bei der Bachelor-Show präsentieren sich die Studierenden des Studiengangs Musikalisches Unterhaltungstheater jeweils 20-25 Minuten singend, spielend und tanzend auf der Bühne - nicht nur dem Publikum, sondern auch einer Jury (Prüfungskommission). Diese besteht aus KONS-Lehrenden, AgentInnen, IntendantInnen und RegisseurInnen, die die zukünftigen AbsolventInnen bewertet und deren weitere Zukunft u. a. oftmals auch durch die Vergabe von attraktiven Engagements mitbestimmt.
PRIORITY:5
CLASS:PUBLIC
BEGIN:VALARM
TRIGGER:-PT15M
ACTION:DISPLAY
DESCRIPTION:Reminder
END:VALARM
END:VEVENT
END:VCALENDAR
