BEGIN:VCALENDAR
VERSION:2.0
PRODID:-//TYPO3/NONSGML MUK Events//EN
METHOD:PUBLISH
BEGIN:VTIMEZONE
TZID:W. Europe Standard Time
BEGIN:STANDARD
TZNAME:W. Europe Standard Time
DTSTART:20120514T193000
TZOFFSETFROM:+0200
TZOFFSETTO:+0100
RRULE:FREQ=YEARLY;BYDAY=-1SU;BYMONTH=10
END:STANDARD
BEGIN:DAYLIGHT
TZNAME:W. Europe Standard Time
DTSTART:16010101T020000
TZOFFSETFROM:+0100
TZOFFSETTO:+0200
RRULE:FREQ=YEARLY;BYDAY=-1SU;BYMONTH=3
END:DAYLIGHT
END:VTIMEZONE
BEGIN:VEVENT
ORGANIZER:MAILTO:office@muk.ac.at
UID:bc812c9b-3956-4d17-88de-5e2d152ddc5b
DTSTAMP:20120514T193000Z
DTSTART;TZID="W. Europe Standard Time":20120514T193000
DTEND;TZID="W. Europe Standard Time":20120514T203000
LOCATION:RadioKulturhaus
TRANSP:OPAQUE
SUMMARY:AUFTAKT - Junge Dirigenten des KONS
DESCRIPTION:Konzert der Dirigierstudenten von Georg Mark mit dem Bratislava Symphonieorchester Beim diesjährigen Konzert der Klasse von Georg Mark stellen sich wieder die jungen Dirigenten des Abschlussjahrganges dem Publikum vor und ihr Können unter Beweis. Heuer dirigieren der Österreicher Erich Polz, der Italiener Giuseppe Montesano und der Spanier Jose Miguel Mindan Seuba im Rahmen ihrer Bachelorprüfung die Bratislava Symphoniker. Dabei werden folgende Werke zu hören sein: Passacaglia op. 1 für Orchester von Anton Webern, Lieder eines fahrenden Gesellen für Stimme und Orchester von Gustav Mahler, mit Manuela Leonhartsberger (Klasse Helen Tintes-Schürmann) als Gesangssolistin, Estancia op. 8 – Dances from Estancia op. 8a für Orchester von Alberto Ginastera sowie die 1. Sinfonie c-moll op. 68 für Orchester von Johannes Brahms.
PRIORITY:5
CLASS:PUBLIC
BEGIN:VALARM
TRIGGER:-PT15M
ACTION:DISPLAY
DESCRIPTION:Reminder
END:VALARM
END:VEVENT
END:VCALENDAR
