BEGIN:VCALENDAR
VERSION:2.0
PRODID:-//TYPO3/NONSGML MUK Events//EN
METHOD:PUBLISH
BEGIN:VTIMEZONE
TZID:W. Europe Standard Time
BEGIN:STANDARD
TZNAME:W. Europe Standard Time
DTSTART:20260531T180000
TZOFFSETFROM:+0200
TZOFFSETTO:+0100
RRULE:FREQ=YEARLY;BYDAY=-1SU;BYMONTH=10
END:STANDARD
BEGIN:DAYLIGHT
TZNAME:W. Europe Standard Time
DTSTART:16010101T020000
TZOFFSETFROM:+0100
TZOFFSETTO:+0200
RRULE:FREQ=YEARLY;BYDAY=-1SU;BYMONTH=3
END:DAYLIGHT
END:VTIMEZONE
BEGIN:VEVENT
ORGANIZER:MAILTO:office@muk.ac.at
UID:bc812c9b-3956-4d17-88de-5e2d152ddc5b
DTSTAMP:20260531T180000Z
DTSTART;TZID="W. Europe Standard Time":20260531T180000
DTEND;TZID="W. Europe Standard Time":20260531T190000
LOCATION:Otto Wagner Areal, Jugendstiltheater
TRANSP:OPAQUE
SUMMARY:Aufbruch in die Moderne — Musik in Wien anno 1900
DESCRIPTION:Kammermusikkonzert des Instituts für Saiteninstrumente
Zur selben Zeit, als Otto Wagner seinen zukunftsweisenden Bau auf den Steinhofgründen realisiert, stellt auch das musikalische Wien die Zeichen auf Moderne. Die Musik dieses Jahrzehnts wird nach der Wiener Klassik zum zweiten Mal den Verlauf der Musikgeschichte entscheidend verändern. Rund um Schönbergs Verklärte Nacht entführen Studierende der MUK in diese Welt, die immer noch den unwiderstehlichen Charakter von Aufbruch atmet.
Mit Werken von Ludwig van Beethoven, Alma Mahler-Werfel, Arnold Schönberg und Anton Webern.
PRIORITY:5
CLASS:PUBLIC
BEGIN:VALARM
TRIGGER:-PT15M
ACTION:DISPLAY
DESCRIPTION:Reminder
END:VALARM
END:VEVENT
END:VCALENDAR
