BEGIN:VCALENDAR
VERSION:2.0
PRODID:-//TYPO3/NONSGML MUK Events//EN
METHOD:PUBLISH
BEGIN:VTIMEZONE
TZID:W. Europe Standard Time
BEGIN:STANDARD
TZNAME:W. Europe Standard Time
DTSTART:20111216T203000
TZOFFSETFROM:+0200
TZOFFSETTO:+0100
RRULE:FREQ=YEARLY;BYDAY=-1SU;BYMONTH=10
END:STANDARD
BEGIN:DAYLIGHT
TZNAME:W. Europe Standard Time
DTSTART:16010101T020000
TZOFFSETFROM:+0100
TZOFFSETTO:+0200
RRULE:FREQ=YEARLY;BYDAY=-1SU;BYMONTH=3
END:DAYLIGHT
END:VTIMEZONE
BEGIN:VEVENT
ORGANIZER:MAILTO:office@muk.ac.at
UID:bc812c9b-3956-4d17-88de-5e2d152ddc5b
DTSTAMP:20111216T203000Z
DTSTART;TZID="W. Europe Standard Time":20111216T203000
DTEND;TZID="W. Europe Standard Time":20111216T203000
LOCATION:Porgy &amp; Bess
TRANSP:OPAQUE
SUMMARY:ABGESAGT: kons.wien.jazzorchestra conducted by Bill Holman
DESCRIPTION:Neue Veranstaltung: kons.wien.jazzorchestra goes VA0 - The Music of mathias rüegg (conducted by mathias rüegg)
The Music of Bill Holman2010 brachte das kons.wien.jazzorchestra die Suite Paul Klee von und mit Jim McNeely, einem der herausragendsten Komponisten und Arrangeure des aktuellen Jazz, zur Aufführung. Ein Jahr später kommt nun der amerikanische Komponist und Arrangeur Bill Holman nach Wien, um mit den jungen Jazz-MusikerInnen des KONS das Programm The Music of Bill Holman, das ausschließlich aus Eigenkompositionen und -arrangements von ihm besteht, im Porgy & Bess aufzuführen. 
Ursprünglich Tenorsaxophonist, gehört der 1927 in Olive, Kalifornien geborene und in Los Angeles lebende Leonard „Bill“ Holman nicht nur prägend zum West Coast Jazz der 50er Jahre, sondern darf als einer der bedeutendsten Komponisten und Arrangeure im Jazz des 20. Jahrhunderts bezeichnet werden. Allerdings wird sein Name einer breiten Öffentlichkeit weniger bekannt sein, als den JazzmusikerInnen weltweit; ein „Musician‘s Musician“, dessen Bedeutung erst erahnt werden kann, betrachtet man sein reiches Schaffen über mehr als einem halben Jahrhundert.
So hat er mit den meisten wichtigen Stars und Klangkörpern des modernen Jazz wie Louie Bellson und Buddy Rich zusammengearbeitet und für Vokalisten wie Tony Bennett, Judy Garland, Ella Fitzgerald, Natalie Cole, aber auch den Fifth Dimension in den 1970er Jahren geschrieben. 1976 beauftragte ihn Count Basie ein ganzes Album für ihn zu komponieren und arrangieren („I Told You So“, Pablo Records). 1996 erhielt er für seine Komposition A View From the Side, eingespielt mit seiner eigenen Band, und 1998 für Arrangements auf seiner CD Brilliant Corners - The Music of Thelonious Monk einen Grammy; 2010 die NEA Jazz Masters Fellowship, eine Anerkennung für sein bisheriges Lebenswerk. Wiederholt wurde er auf einen der führenden Ränge des Down-Beat-Polls für „Arrangement“ gewählt.
Bill Holman, im Mai dieses Jahres 84 Jahre alt geworden, wird aufgrund seiner Bekanntschaft mit dem Abteilungsvorstand Roman Schwaller exklusiv die Konservatorium Wien Privatuniversität besuchen; ohne Zweifel ein Höhepunkt im aktuellen Programm der Abteilung Jazz.
Bill Holman; composer, arranger, conductorkons.wien.jazzorchestraMarkus Pechmann, Dominik Fuss, Lukas Hartl, Richard Köster; trumpetsClemens Hofer, Christoph Horn, Paul Schreitl, Christian Amstätter; trombonesMartin Gasser, Ben Daxbacher, Damian Dalla Torre, Karin Waldburger, Philipp Gruber; saxesMax Tschida, piano; Sebastian Küberl, bass; Thomas Gindl, drumsSewon Kang, vocal
PRIORITY:5
CLASS:PUBLIC
BEGIN:VALARM
TRIGGER:-PT15M
ACTION:DISPLAY
DESCRIPTION:Reminder
END:VALARM
END:VEVENT
END:VCALENDAR
