BEGIN:VCALENDAR
VERSION:2.0
PRODID:-//TYPO3/NONSGML MUK Events//EN
METHOD:PUBLISH
BEGIN:VTIMEZONE
TZID:W. Europe Standard Time
BEGIN:STANDARD
TZNAME:W. Europe Standard Time
DTSTART:20160620T190000
TZOFFSETFROM:+0200
TZOFFSETTO:+0100
RRULE:FREQ=YEARLY;BYDAY=-1SU;BYMONTH=10
END:STANDARD
BEGIN:DAYLIGHT
TZNAME:W. Europe Standard Time
DTSTART:16010101T020000
TZOFFSETFROM:+0100
TZOFFSETTO:+0200
RRULE:FREQ=YEARLY;BYDAY=-1SU;BYMONTH=3
END:DAYLIGHT
END:VTIMEZONE
BEGIN:VEVENT
ORGANIZER:MAILTO:office@muk.ac.at
UID:bc812c9b-3956-4d17-88de-5e2d152ddc5b
DTSTAMP:20160620T190000Z
DTSTART;TZID="W. Europe Standard Time":20160620T190000
DTEND;TZID="W. Europe Standard Time":20160620T200000
LOCATION:Porgy &amp; Bess
TRANSP:OPAQUE
SUMMARY:5. muk.jazz.festival - 20. bis 24. Juni 2016
DESCRIPTION:MUK.finals mit Bachelorkonzerten & öffentlichen Masterprüfungen; 12 Ensembles, Jazz-Choir & muk.bigbang.night mit muk.wien.stageband & muk.wien.jazzorchestra
Bereits zum fünften Mal zeigt der Studiengang Jazz der Fakultät Musik an fünf aufeinanderfolgenden Abenden, was er alles zu bieten hat: Beim fünften muk.jazz.festival, das sich aus vier muk.jazz.nights und der muk.bigbang.night zusammensetzt, werden sämtliche MUK.finals mit Bachelorkonzerten und öffentlichen Masterprüfungen sowie alle zwölf Ensembles, der Jazz-Choir und die zwei Big Bands präsentiert. Ein besonderer Höhepunkt wird dabei die muk.bigbang.night mit der muk.wien.stageband … plays the music of Frank St. Peter (conducted by Johannes Herrlich) und dem muk.wien.jazzorchestra … plays the music of Michael Abene (conducted by Roman Schwaller).
PROGRAMM
muk.jazz.night I
Nikola Milenkovic Band (Bachelorkonzert)Modern Ensemble Uli LangthalerAnna Zourek & Band (Bachelorkonzert)Primo Salvati Sestetto (Bachelorkonzert)East to Wes Ensemble Christian HavelFussion (Bachelorkonzert Florian Fuss)Tobias Faulhammer 4tet (öffentliche Masterprüfung Jazz-Gitarre)Hardbop Ensemble Roman SchwallerSpittelberg Jazz Orchestra plays the music of Andreas Lachberger (öffentliche Masterprüfung Jazz-Komposition)
PRIORITY:5
CLASS:PUBLIC
BEGIN:VALARM
TRIGGER:-PT15M
ACTION:DISPLAY
DESCRIPTION:Reminder
END:VALARM
END:VEVENT
END:VCALENDAR
