BEGIN:VCALENDAR
VERSION:2.0
PRODID:-//TYPO3/NONSGML MUK Events//EN
METHOD:PUBLISH
BEGIN:VTIMEZONE
TZID:W. Europe Standard Time
BEGIN:STANDARD
TZNAME:W. Europe Standard Time
DTSTART:20060128T100000
TZOFFSETFROM:+0200
TZOFFSETTO:+0100
RRULE:FREQ=YEARLY;BYDAY=-1SU;BYMONTH=10
END:STANDARD
BEGIN:DAYLIGHT
TZNAME:W. Europe Standard Time
DTSTART:16010101T020000
TZOFFSETFROM:+0100
TZOFFSETTO:+0200
RRULE:FREQ=YEARLY;BYDAY=-1SU;BYMONTH=3
END:DAYLIGHT
END:VTIMEZONE
BEGIN:VEVENT
ORGANIZER:MAILTO:office@muk.ac.at
UID:bc812c9b-3956-4d17-88de-5e2d152ddc5b
DTSTAMP:20060128T100000Z
DTSTART;TZID="W. Europe Standard Time":20060128T100000
DTEND;TZID="W. Europe Standard Time":20060128T100000
LOCATION:Musik und Kunst Privatuniversität der Stadt Wien, MUK.podium
TRANSP:OPAQUE
SUMMARY:Wolfgang Amadeus Mozarts Werke für Klavier und Violine
DESCRIPTION:Wissenswertes, Kurioses, Neues für Interpretation, Studium und Konzertvortrag.Workshop mit Elisabeth und Johannes Jess-Kropfitsch. 
Wie gestalte ich Eingänge, Kadenzen, Triller und andere Verzierungen, Arpeggien, Dynamik, Agogik (geschriebene und „ungeschriebene“)? Diese und ähnliche, in der heutigen Spielpraxis oft auftretenden Probleme werden im Workshop praktisch und theoretisch analysiert.
Der Workshop richtet sich an Studierende der Zentralen künstlerischen Fächer Klavier, Korrepetition und Violine. Interessiertes Publikum ist herzlich willkommen!
Dauer: 10-12 und 15-17 Uhr.
Elisabeth Jess-Kropfitsch studierte zwölf Jahre bei dem berühmten Wiener Geiger und Mozart-Spezialisten Wolfgang Schneiderhan und war acht Jahre Assistentin von Eduard Melkus, einem international anerkannten Spezialisten der Barockvioline. Sie unterrichtet Kammermusik an der Universität für Musik und darstellende Kunst in Wien. Einen Schwerpunkt ihrer internationalen Konzerttätigkeit bilden die Werke von W. A. Mozart, die Elisabeth Jess-Kropfitsch gemeinsam mit ihrem Bruder Johannes Jess-Kropfitsch im Sommer 2005 auf CD eingespielt hat.
Johannes Jess-Kropfitsch lehrt an der Konservatorium Wien Privatuniversität Klavier und Korrepetition. Seine intensive internationale Konzerttätigkeit als Solist und Kammermusiker führt immer wieder zu den Werken W. A. Mozarts. So spielte er etwa im Tschaikowsky-Saal in Moskau mit den Moskauer Symphonikern Mozarts Klavierkonzert B-Dur KV 595.
PRIORITY:5
CLASS:PUBLIC
BEGIN:VALARM
TRIGGER:-PT15M
ACTION:DISPLAY
DESCRIPTION:Reminder
END:VALARM
END:VEVENT
END:VCALENDAR
