BEGIN:VCALENDAR
VERSION:2.0
PRODID:-//TYPO3/NONSGML MUK Events//EN
METHOD:PUBLISH
BEGIN:VTIMEZONE
TZID:W. Europe Standard Time
BEGIN:STANDARD
TZNAME:W. Europe Standard Time
DTSTART:20080507T200000
TZOFFSETFROM:+0200
TZOFFSETTO:+0100
RRULE:FREQ=YEARLY;BYDAY=-1SU;BYMONTH=10
END:STANDARD
BEGIN:DAYLIGHT
TZNAME:W. Europe Standard Time
DTSTART:16010101T020000
TZOFFSETFROM:+0100
TZOFFSETTO:+0200
RRULE:FREQ=YEARLY;BYDAY=-1SU;BYMONTH=3
END:DAYLIGHT
END:VTIMEZONE
BEGIN:VEVENT
ORGANIZER:MAILTO:office@muk.ac.at
UID:bc812c9b-3956-4d17-88de-5e2d152ddc5b
DTSTAMP:20080507T200000Z
DTSTART;TZID="W. Europe Standard Time":20080507T200000
DTEND;TZID="W. Europe Standard Time":20080507T200000
LOCATION:Musikverein Wien, Gläserner Saal/Magna Auditorium
TRANSP:OPAQUE
SUMMARY:winds &amp; percussion
DESCRIPTION:Konzert der Abteilung Blasinstrumente und SchlagwerkProgramm:
Karlheinz Stockhausen (1928—2007)Entführung (aus Montag aus Licht) 1985, 2004 Version für Sopransaxophon und Elektronische und Konkrete MusikNoëmi Schwank, Sopransaxophon (Klasse Lars Mlekusch)Richard Peaslee (geb. 1930)Arrows of TimeMartin Zainzinger, Posaune (Klasse Gabriel Madas)Aniko Rónai-Jennewein, Klavier (Lehrende)Nebojša Zivkovic (geb. 1962)Uneven Souls für Marimba solo, Percussion Trio und MännerstimmenCheng Qian, Schlagwerk (Klasse Leonhard Schmidinger)Sabine Pyrker, Schlagwerk (Klasse Leonhard Schmidinger)Lea Priemetzhofer, Schlagwerk (Klasse Josef Gumpinger)Georg Hasibeder, Schlagwerk (Klasse Josef Gumpinger)
Pause
Astor Piazzolla (1921—1992)Tango Suite für zwei MarimbenSabine Pyrker, Schlagwerk (Klasse Leonhard Schmidinger)Cheng Qian, Schlagwerk (Klasse Leonhard Schmidinger)Robert Muczynski (geb. 1929)Sonate für Flöte und Klavier op. 14Melanie Schönbichler, Flöte (Klasse Erwin Klambauer)   Sabine Pröglhöf-Karner, Klavier (Lehrende)Francis Poulenc (1899—1963)Sextett für Klavier, Flöte, Oboe, Klarinette, Fagott, HornEvelyn Peña Comas, Flöte (Klasse Erwin Klambauer)Yoko Kuriyama, Oboe (als Gast)Theresia Schmidinger, Klarinette (als Gast)Johannes Vohla, Fagott (Klasse Michael Werba)Takeshi Izumi,  Horn (Klasse Volker Altmann)Sabine Pröglhöf-Karner, Klavier (Lehrende)
PRIORITY:5
CLASS:PUBLIC
BEGIN:VALARM
TRIGGER:-PT15M
ACTION:DISPLAY
DESCRIPTION:Reminder
END:VALARM
END:VEVENT
END:VCALENDAR
