BEGIN:VCALENDAR
VERSION:2.0
PRODID:-//TYPO3/NONSGML MUK Events//EN
METHOD:PUBLISH
BEGIN:VTIMEZONE
TZID:W. Europe Standard Time
BEGIN:STANDARD
TZNAME:W. Europe Standard Time
DTSTART:20080502T193000
TZOFFSETFROM:+0200
TZOFFSETTO:+0100
RRULE:FREQ=YEARLY;BYDAY=-1SU;BYMONTH=10
END:STANDARD
BEGIN:DAYLIGHT
TZNAME:W. Europe Standard Time
DTSTART:16010101T020000
TZOFFSETFROM:+0100
TZOFFSETTO:+0200
RRULE:FREQ=YEARLY;BYDAY=-1SU;BYMONTH=3
END:DAYLIGHT
END:VTIMEZONE
BEGIN:VEVENT
ORGANIZER:MAILTO:office@muk.ac.at
UID:bc812c9b-3956-4d17-88de-5e2d152ddc5b
DTSTAMP:20080502T193000Z
DTSTART;TZID="W. Europe Standard Time":20080502T193000
DTEND;TZID="W. Europe Standard Time":20080502T193000
LOCATION:DAS OFF THEATER
TRANSP:OPAQUE
SUMMARY:Werkstattbühne Tohuwabohu
DESCRIPTION:Interdisziplinäres Projekt der Abteilung Schauspielunter Beteiligung der AbteilungenPädagogik für Modernen Tanz und Musikalisches Unterhaltungstheater
Aus den Studierenden der verschiedenen Abteilungen werden zwei Ensembles gebildet, die zur selben Zeit mit jeweils einer Regisseurin, einem Regisseur eine Aufführung erarbeiten auf der Basis eines Bilderbuches.
Zwei Arbeitsphasen: 
18. 2. bis 14. 3., im Anschluss Aufführungen 14. und 15. 3. jeweils 19.30 Uhr
und      4. 4. bis 2. 5.im Anschluss Aufführungen 2. und 3. 5., jeweils 19.30 Uhr
Regie in der ersten Phase: Ensemble 1: Anne LenkEnsemble 2: Bettina Turi-Ostheim Regie in der zweiten Phase: Ensemble 1: Monika Weiner Ensemble 2: Philip Becker 
Es spielt der zweite Jahrgang der Abteilung Schauspiel mit Studierenden der Abteilungen Pädagogik für Modernen Tanz und Musikalisches Unterhaltungstheater.Das Bühnenbild wird von Studierenden der Hochschule der Angewandten Kunst konzipiert und erstellt. Detaillierte Projektkonzeption Kreuzweg
"Tradition ist die Weitergabe des Feuers, nicht die Anbetung von Asche." Gustav Mahler
Der zweite Studienjahrgang der Abteilung Schauspiel der Konservatorium Wien Privatuniversität erarbeitet ein Projekt im Sinne der Stückentwicklung. Themengrundlage ist im Jahr 2008 ein Bilderbuch (im Jahr 2009 eine Kurzgeschichte, als Ergebnis einer Schreibwerkstatt). Diese Themengrundlagen sind Quellen der Inspiration für einen Theater-/Performance–Abend. 
Der Jahrgang wird in zwei Gruppen geteilt. Eine Gruppe erarbeitet  ein Stückkonzept nach konventionellem Maß, mit einem Lehrenden der Abteilung Schauspiel der Konservatorium Wien Privatuniversität und präsentiert nach ca. fünf Wochen ein geschriebenes kleines Stück in einer Inszenierung. Die Parallel-Gruppe entwickelt, in Zusammenarbeit mit einer Regisseurin aus dem gleichen Thema einen Improvisations- oder Performance-Abend. Beide "Stücke" werden an einem Abend nacheinander aufgeführt. Für die nächste Phase kreuzt der Weg, und die erste Gruppe, die bis dahin das Stück konventionell geschrieben und erarbeitet hat, geht nun mit einem neuen Bilderbuch, neuer "Regie" und neuer Themenvorgabe in die Improvisation, und die vorige Improvisationsgruppe arbeitet nun nach den Regeln des Schreibens, Verabredens und Spielens. So werden in ca. 10 Wochen durch zwei verschiedene Konzeptionen vier eigenständige Stücke erarbeitet. Die Begegnung im Bereich experimenteller Performances mit darin erfahrenen Theaterschaffenden ermöglicht den Studierenden schon im zweiten Ausbildungsjahr freies Arbeiten in professioneller Begleitung. Auch erfahren Sie die Aufforderung zu eigenständiger und kreativer Behauptungskraft in der Theaterarbeit zu gelangen und sich mit Mut und Lust auf die Suche/Reise zu begeben. Gezeigt werden die Stücke an jeweils zwei Abenden im Off–Theater, einem Theater das sich dem Experiment verschrieben hat.
Eine Zusammenarbeit mit bildenden Künstlern wird ebenso angestrebt, wie die Begegnung junger Regieassistenten und Regisseure mit Schauspielern, Musikern und Malern in einer Art Performance Werkstatt in den folgenden Jahren. Jede Arbeitsgruppe, jedes Ensemble wird von einem Dramaturgen betreut. 
Mit diesem Projekt beschreitet die Abteilung Schauspiel der Konservatorium Wien Privatuniversität nicht nur einen außergewöhnlichen interdisziplinären Pfad des Schauspielstudiums, sondern strebt eine neue einzigartige Wesenserweiterung der Ausbildung an. Schreibwerkstatt, Improvisation, Performance, Stückentwicklung und Aufführung, geboren aus einem Thema, einem Bild oder Worten. Dies ist, in sinnträchtigster Weise, Bildende Kunst.
PRIORITY:5
CLASS:PUBLIC
BEGIN:VALARM
TRIGGER:-PT15M
ACTION:DISPLAY
DESCRIPTION:Reminder
END:VALARM
END:VEVENT
END:VCALENDAR
