BEGIN:VCALENDAR
VERSION:2.0
PRODID:-//TYPO3/NONSGML MUK Events//EN
METHOD:PUBLISH
BEGIN:VTIMEZONE
TZID:W. Europe Standard Time
BEGIN:STANDARD
TZNAME:W. Europe Standard Time
DTSTART:20101202T190000
TZOFFSETFROM:+0200
TZOFFSETTO:+0100
RRULE:FREQ=YEARLY;BYDAY=-1SU;BYMONTH=10
END:STANDARD
BEGIN:DAYLIGHT
TZNAME:W. Europe Standard Time
DTSTART:16010101T020000
TZOFFSETFROM:+0100
TZOFFSETTO:+0200
RRULE:FREQ=YEARLY;BYDAY=-1SU;BYMONTH=3
END:DAYLIGHT
END:VTIMEZONE
BEGIN:VEVENT
ORGANIZER:MAILTO:office@muk.ac.at
UID:bc812c9b-3956-4d17-88de-5e2d152ddc5b
DTSTAMP:20101202T190000Z
DTSTART;TZID="W. Europe Standard Time":20101202T190000
DTEND;TZID="W. Europe Standard Time":20101202T190000
LOCATION:Musik und Kunst Privatuniversität der Stadt Wien, MUK.podium
TRANSP:OPAQUE
SUMMARY:Werden und Werk - Literarische Prozesse in der Musik mit Dr. Edwin Vanecek
DESCRIPTION:Der künstlerische Schaffensprozess ist oft nicht nur die Grundlage eines Werkes, sondern oft schon als dessen Thema zu verstehen. Das Werk ist so die Darstellung seines eigenen Entstehens. Der Autor schafft so eine Referenzebene, die den Anspruch hat, unmittelbar entstehende Kunst zu sein. Diese Frage wird in einigen der bedeutendsten Werken der Literatur diskutiert, vom Mythos von Orpheus bis zu Der Prozess von Franz Kafka.Die musikalische Darstellung dieser Entstehungsgeschichten ist so die Übertragung literarischen auf das musikalische Schaffen und damit auf die Frage nach der Grundlage von künstlerischem Schaffen selbst.MitDr. Edwin Vanecek, Autor/Herausgeber und Lehrender an der Konservatorium Wien Privatuniversität Karen Murray, ViolineRanko Markovic, Klavier  
PRIORITY:5
CLASS:PUBLIC
BEGIN:VALARM
TRIGGER:-PT15M
ACTION:DISPLAY
DESCRIPTION:Reminder
END:VALARM
END:VEVENT
END:VCALENDAR
