BEGIN:VCALENDAR
VERSION:2.0
PRODID:-//TYPO3/NONSGML MUK Events//EN
METHOD:PUBLISH
BEGIN:VTIMEZONE
TZID:W. Europe Standard Time
BEGIN:STANDARD
TZNAME:W. Europe Standard Time
DTSTART:20060323T193000
TZOFFSETFROM:+0200
TZOFFSETTO:+0100
RRULE:FREQ=YEARLY;BYDAY=-1SU;BYMONTH=10
END:STANDARD
BEGIN:DAYLIGHT
TZNAME:W. Europe Standard Time
DTSTART:16010101T020000
TZOFFSETFROM:+0100
TZOFFSETTO:+0200
RRULE:FREQ=YEARLY;BYDAY=-1SU;BYMONTH=3
END:DAYLIGHT
END:VTIMEZONE
BEGIN:VEVENT
ORGANIZER:MAILTO:office@muk.ac.at
UID:bc812c9b-3956-4d17-88de-5e2d152ddc5b
DTSTAMP:20060323T193000Z
DTSTART;TZID="W. Europe Standard Time":20060323T193000
DTEND;TZID="W. Europe Standard Time":20060323T193000
LOCATION:Wiener Konzerthaus, Schönberg-Saal
TRANSP:OPAQUE
SUMMARY:Traum und Wirklichkeit
DESCRIPTION:Das von der Abteilung Saiteninstrumente initiierte Konzert Traum und Wirklichkeit widmet sich zwei Jubilaren dieses Jahres, die einige ihrer kostbarsten Schöpfungen kammermusikalischen Formationen anvertraut haben. Zugleich versucht es, die Beweggründe künstlerischen Schaffens ganz grundsätzlich auszuloten. Mozarts und Schostakowitschs Leben war gekennzeichnet durch materielle bzw. politische Zwänge. So können gerade ihre Werke exemplarisch das Potential von Musik in seiner ganzen Vielfalt vor Augen führen: die Möglichkeit, durchs Komponieren einerseits die Konflikte der Realität auszutragen, andererseits eine utopische Gegenwelt – oder gar Traumwelt – zu kreieren.Programm:Wolfgang Amadeus Mozart Sonaten für Klavier und Violine C-Dur KV 296A-Dur KV 305G-Dur KV 379B-Dur KV 454
Dmitri SchostakowitschKlaviertrio Nr. 2 e-moll op. 69Streichquartett Nr. 7 fis-moll op. 108
Fanny Clamagirand, ViolineDalibor Karvay, ViolineBenjamin Marquise Gilmore, ViolineAlexander Sitkovetsky, ViolineKristina Šuklar, ViolineMilan Karanovic, Violoncello
Stefan Stroissnig, KlavierChizu Miyamoto, KlavierLuca Monti, Klavier
Atlas QuartettIoanna Apostolakos, ViolineBurghard Tölke, VioloneRaphael Handschuh, ViolaElisaveta Sharakhovskaya, Violoncello
PRIORITY:5
CLASS:PUBLIC
BEGIN:VALARM
TRIGGER:-PT15M
ACTION:DISPLAY
DESCRIPTION:Reminder
END:VALARM
END:VEVENT
END:VCALENDAR
