BEGIN:VCALENDAR
VERSION:2.0
PRODID:-//TYPO3/NONSGML MUK Events//EN
METHOD:PUBLISH
BEGIN:VTIMEZONE
TZID:W. Europe Standard Time
BEGIN:STANDARD
TZNAME:W. Europe Standard Time
DTSTART:20071201T200000
TZOFFSETFROM:+0200
TZOFFSETTO:+0100
RRULE:FREQ=YEARLY;BYDAY=-1SU;BYMONTH=10
END:STANDARD
BEGIN:DAYLIGHT
TZNAME:W. Europe Standard Time
DTSTART:16010101T020000
TZOFFSETFROM:+0100
TZOFFSETTO:+0200
RRULE:FREQ=YEARLY;BYDAY=-1SU;BYMONTH=3
END:DAYLIGHT
END:VTIMEZONE
BEGIN:VEVENT
ORGANIZER:MAILTO:office@muk.ac.at
UID:bc812c9b-3956-4d17-88de-5e2d152ddc5b
DTSTAMP:20071201T200000Z
DTSTART;TZID="W. Europe Standard Time":20071201T200000
DTEND;TZID="W. Europe Standard Time":20071201T200000
LOCATION:
TRANSP:OPAQUE
SUMMARY:The Music of The Count Basie Bigband
DESCRIPTION:Abschlusskonzert des Workshops mit Erik van Lier an der Abteilung Jazz(Workshop am 29. 11. und 30. 11. 2007, jeweils 10 bis 17 Uhr; 1. 12. 2007, 10 bis 13 Uhr in den Räumlichkeiten der Abteilung Jazz)
Erik van Lier war Bass-Posaunist der legendären Kenny Clarke-Francy Boland Bigband, spielte in der Slide Hampton-Joe Haider Bigband und mit Thad Jones' A Ball of Fire. Zur Zeit ist er Mitglied der Peter Herboltzheimer Bigband und bei Bart's Bones, einem Posaunen-Quartett mit seinem Bruder Bart van Lier. Erik unterrichtet Bass-Posaune am Amsterdam Conservatory und ist Gastlehrender bei zahlreichen internationalen Bigband-Workshops (Bujazzo, KUG, Royal Airforce Band etc.)
Mit der Bigband der Konservatorium Wien Privatuniversität wird Erik van Lier ein Programm bestehend aus Stücken der legendären Count Basie Bigband einstudieren. Die Tunes stammen von namhaften Arrangeuren und Komponisten wie Neil Hefti, Sam Nestico, Frank Foster u. a. Als Abschluss des Workshops findet am 1. Dezember 2007 ein Konzert in Joe Zawinul's Birdland statt. 
PRIORITY:5
CLASS:PUBLIC
BEGIN:VALARM
TRIGGER:-PT15M
ACTION:DISPLAY
DESCRIPTION:Reminder
END:VALARM
END:VEVENT
END:VCALENDAR
