BEGIN:VCALENDAR
VERSION:2.0
PRODID:-//TYPO3/NONSGML MUK Events//EN
METHOD:PUBLISH
BEGIN:VTIMEZONE
TZID:W. Europe Standard Time
BEGIN:STANDARD
TZNAME:W. Europe Standard Time
DTSTART:20070505T193000
TZOFFSETFROM:+0200
TZOFFSETTO:+0100
RRULE:FREQ=YEARLY;BYDAY=-1SU;BYMONTH=10
END:STANDARD
BEGIN:DAYLIGHT
TZNAME:W. Europe Standard Time
DTSTART:16010101T020000
TZOFFSETFROM:+0100
TZOFFSETTO:+0200
RRULE:FREQ=YEARLY;BYDAY=-1SU;BYMONTH=3
END:DAYLIGHT
END:VTIMEZONE
BEGIN:VEVENT
ORGANIZER:MAILTO:office@muk.ac.at
UID:bc812c9b-3956-4d17-88de-5e2d152ddc5b
DTSTAMP:20070505T193000Z
DTSTART;TZID="W. Europe Standard Time":20070505T193000
DTEND;TZID="W. Europe Standard Time":20070505T193000
LOCATION:Kosmos Theater
TRANSP:OPAQUE
SUMMARY:tanzbereit!
DESCRIPTION:Der Vorbereitungslehrgang der Abteilung Ballett an der Konservatorium Wien Privatuniversität präsentiert mit tanzbereit! ein vielfältiges und abwechslungsreiches Programm. Die zehn- bis fünfzehnjährigen SchülerInnen der insgesamt fünf Vorbereitungsklassen zeigen short works, aus den verschiedenen Unterrichtsfächern ihrer Ausbildung. Ob akrobatische Überschläge, gymnastische Dehnungen, Tänze aus der Zeit Ludwigs XIV., klassischer Tanz, moderner Tanz oder Charaktertanz — die Tänzer und Tänzerinnen von morgen sind bereit! Sie sind mit Lust und Freude auf dem Weg zu einem wunderschönen Beruf! Die PädagogInnen der Abteilung Ballett gestalten diesen Abend, der ein wichtiger Beitrag zur Bühnenpraxis ist, sowohl mit neuen Choreographien als auch nach vorhandenem Repertoire.
PRIORITY:5
CLASS:PUBLIC
BEGIN:VALARM
TRIGGER:-PT15M
ACTION:DISPLAY
DESCRIPTION:Reminder
END:VALARM
END:VEVENT
END:VCALENDAR
