BEGIN:VCALENDAR
VERSION:2.0
PRODID:-//TYPO3/NONSGML MUK Events//EN
METHOD:PUBLISH
BEGIN:VTIMEZONE
TZID:W. Europe Standard Time
BEGIN:STANDARD
TZNAME:W. Europe Standard Time
DTSTART:20080107T000000
TZOFFSETFROM:+0200
TZOFFSETTO:+0100
RRULE:FREQ=YEARLY;BYDAY=-1SU;BYMONTH=10
END:STANDARD
BEGIN:DAYLIGHT
TZNAME:W. Europe Standard Time
DTSTART:16010101T020000
TZOFFSETFROM:+0100
TZOFFSETTO:+0200
RRULE:FREQ=YEARLY;BYDAY=-1SU;BYMONTH=3
END:DAYLIGHT
END:VTIMEZONE
BEGIN:VEVENT
ORGANIZER:MAILTO:office@muk.ac.at
UID:bc812c9b-3956-4d17-88de-5e2d152ddc5b
DTSTAMP:20080107T000000Z
DTSTART;TZID="W. Europe Standard Time":20080107T000000
DTEND;TZID="W. Europe Standard Time":20080111T000000
LOCATION:Konservatorium Wien Privatuniversität, Ballett, Saal 1
TRANSP:OPAQUE
SUMMARY:Tancredo Tavarez - Masterclass
DESCRIPTION:Tancredo Tavarez, Lehrender an der L'école-atelier Rudra Béjart Lausanne, einer der renommiertesten Graham-Lehrer ist Gast an der Abteilung Ballett der KWU. Er unterrichtet täglich von 9:45-11:45 im Saal 1/3.Stock am Standort Bräunerstraße.Biographie von Tancredo Tavarez (leider nur in Französisch verfügbar):
Né en République dominicaine, M. Tancredo TAVARES a reçu des bourses de Danse pour étudier à l'instituto Tecnologico de Santo Domingo, le Taller de Danza Moderna, l'Escuela del Ballet Nacional de Mexico et la Martha Graham School of Contemporary Dance.M. TAVARES a dansé internationalement avec le Taller de Danza Moderna, le Ballet Concierto Dominicano, le Pascal Rioult Dance Theatre, le Martha Graham Repertory Ensemble et la Martha Graham Dance Company.Il a travaillé avec des chorégraphes renommés incluant Martha Graham, Maurice Béjart, Yuriko, Pascal Rioult, Donlin Foreman et Thea Barnes et était un membre du corps enseignant à la Martha Graham School of Contemporary Dance,le Alvin Ailey American Dance Center et le Lehman College (The City University of New York).M. TAVARES était le Directeur Artistique Associé de le Taller de Danza Moderna jusqu'à 1996 et a été le professeur de Danse contemporaine du Conservatoire National de Danse d'Avignon jusqu'en juin 2002. Titulaire du C.A, il est actuellement professeur de danse contemporaine à l' Atelier Ecole RUDRA-BEJART de Lauzanne - Suisse    Né en République Dominicaine, il reçoit des bourses d'études de la Fondation "Danza Dominicana" pour le Ballet de National de Mexico et l'école de Martha Graham de New-York. Danseur dans la compagnie de Martha Graham à New-York , il devient membre de la faculté de la Martha Graham School of Contemporary Dance, du Alvin Ailey American Dance Center, du City University of New York. Titulaire du Certificat d'Aptitude de danse contemporaine du Ministère Français de la Culture, il enseigne au Conservatoire d'Avignon avant de rejoindre l'école-atelier Rudra Béjart Lausanne en 2004 comme professeur principal de danse moderne.
PRIORITY:5
CLASS:PUBLIC
BEGIN:VALARM
TRIGGER:-PT15M
ACTION:DISPLAY
DESCRIPTION:Reminder
END:VALARM
END:VEVENT
END:VCALENDAR
