BEGIN:VCALENDAR
VERSION:2.0
PRODID:-//TYPO3/NONSGML MUK Events//EN
METHOD:PUBLISH
BEGIN:VTIMEZONE
TZID:W. Europe Standard Time
BEGIN:STANDARD
TZNAME:W. Europe Standard Time
DTSTART:20060301T140000
TZOFFSETFROM:+0200
TZOFFSETTO:+0100
RRULE:FREQ=YEARLY;BYDAY=-1SU;BYMONTH=10
END:STANDARD
BEGIN:DAYLIGHT
TZNAME:W. Europe Standard Time
DTSTART:16010101T020000
TZOFFSETFROM:+0100
TZOFFSETTO:+0200
RRULE:FREQ=YEARLY;BYDAY=-1SU;BYMONTH=3
END:DAYLIGHT
END:VTIMEZONE
BEGIN:VEVENT
ORGANIZER:MAILTO:office@muk.ac.at
UID:bc812c9b-3956-4d17-88de-5e2d152ddc5b
DTSTAMP:20060301T140000Z
DTSTART;TZID="W. Europe Standard Time":20060301T140000
DTEND;TZID="W. Europe Standard Time":20060301T140000
LOCATION:
TRANSP:OPAQUE
SUMMARY:Tag der offenen Tür - Vorbereitungslehrgang Ballett
DESCRIPTION:Die Abteilung Ballett an der Konservatorium Wien Privatuniversität stellt im Rahmen dieser Veranstaltung ihren Vorbereitungslehrgang vor und bietet allen Interessierten Einblick in die künstlerische Ausbildungspraxis. Unser Vorbereitungslehrgang ist für die Altersstufe 10-15jährige konzipiert. Im Zentralen Künstlerischen Fach Ballett wird nach dem System Waganowa unterrichtet. Zahlreiche ergänzende Lehrveranstaltungen schaffen die Basis für eine vielseitige tänzerische und künstlerische Berufsvorbereitung.  Zielsetzung ist die möglichst frühe und umfassende Ausbildung von körperlich und künstlerisch außerordentlich begabten Studierenden.  
14:00-16:30 In dieser Zeit besteht die Möglichkeit, beim Unterricht der  1.-5. Klasse des Vorbereitungslehrganges in folgenden Unterrichtsfächern zuzuschauen:BallettModern GymnastikAkrobatikCharakter Tanz   
Weitere Angebote:* Informationen zu Aufbau, Inhalt und Zielsetzung des Vorbereitungslehrganges an der Abteilung Ballett * Informationen zur Zulassungsprüfung im Juni 2006 * Möglichkeit zu Gesprächen mit den Lehrenden und dem Abteilungsvorstand* Videovorführungen
PRIORITY:5
CLASS:PUBLIC
BEGIN:VALARM
TRIGGER:-PT15M
ACTION:DISPLAY
DESCRIPTION:Reminder
END:VALARM
END:VEVENT
END:VCALENDAR
