BEGIN:VCALENDAR
VERSION:2.0
PRODID:-//TYPO3/NONSGML MUK Events//EN
METHOD:PUBLISH
BEGIN:VTIMEZONE
TZID:W. Europe Standard Time
BEGIN:STANDARD
TZNAME:W. Europe Standard Time
DTSTART:20060202T090000
TZOFFSETFROM:+0200
TZOFFSETTO:+0100
RRULE:FREQ=YEARLY;BYDAY=-1SU;BYMONTH=10
END:STANDARD
BEGIN:DAYLIGHT
TZNAME:W. Europe Standard Time
DTSTART:16010101T020000
TZOFFSETFROM:+0100
TZOFFSETTO:+0200
RRULE:FREQ=YEARLY;BYDAY=-1SU;BYMONTH=3
END:DAYLIGHT
END:VTIMEZONE
BEGIN:VEVENT
ORGANIZER:MAILTO:office@muk.ac.at
UID:bc812c9b-3956-4d17-88de-5e2d152ddc5b
DTSTAMP:20060202T090000Z
DTSTART;TZID="W. Europe Standard Time":20060202T090000
DTEND;TZID="W. Europe Standard Time":20060202T090000
LOCATION:
TRANSP:OPAQUE
SUMMARY:Tag der offenen Tür an der Abteilung Pädagogik für Modernen Tanz
DESCRIPTION:9:00-10:00 Training – für Gäste besteht die Möglichkeit, beim Training zuzuschauen   10:30-12:00 Präsentation von short works der Studierenden aller vier Ausbildungsjahrgänge 
Weitere Angebote:* Informationen zu Aufbau, Inhalt und Zielsetzung der Ausbildung* Möglichkeit zu Gesprächen mit den Lehrenden und den Studierenden* Videovorführungen
PRIORITY:5
CLASS:PUBLIC
BEGIN:VALARM
TRIGGER:-PT15M
ACTION:DISPLAY
DESCRIPTION:Reminder
END:VALARM
END:VEVENT
END:VCALENDAR
