BEGIN:VCALENDAR
VERSION:2.0
PRODID:-//TYPO3/NONSGML MUK Events//EN
METHOD:PUBLISH
BEGIN:VTIMEZONE
TZID:W. Europe Standard Time
BEGIN:STANDARD
TZNAME:W. Europe Standard Time
DTSTART:20060304T150000
TZOFFSETFROM:+0200
TZOFFSETTO:+0100
RRULE:FREQ=YEARLY;BYDAY=-1SU;BYMONTH=10
END:STANDARD
BEGIN:DAYLIGHT
TZNAME:W. Europe Standard Time
DTSTART:16010101T020000
TZOFFSETFROM:+0100
TZOFFSETTO:+0200
RRULE:FREQ=YEARLY;BYDAY=-1SU;BYMONTH=3
END:DAYLIGHT
END:VTIMEZONE
BEGIN:VEVENT
ORGANIZER:MAILTO:office@muk.ac.at
UID:bc812c9b-3956-4d17-88de-5e2d152ddc5b
DTSTAMP:20060304T150000Z
DTSTART;TZID="W. Europe Standard Time":20060304T150000
DTEND;TZID="W. Europe Standard Time":20060304T150000
LOCATION:Musik und Kunst Privatuniversität der Stadt Wien, MUK.theater
TRANSP:OPAQUE
SUMMARY:Symposion &quot;gefesselt — entfesselt. Kunst zwischen Autonomie und Zwang&quot;
DESCRIPTION:Symposion anlässlich der Akkreditierung des Konservatoriums Wien zur PrivatuniversitätMit Kalevi Aho, Danica Dakic, György Dalos, Michael Haneke, Georg Mark, Jörg WidmannSymposiarchen: Hans Landesmann und Ranko Markovic
Die Akkreditierung des Konservatoriums Wien zur Privatuniversität bildet den Anlass zur Abhaltung eines Symposions. Dieses soll sich allerdings von den heute üblichen akademischen Pflichtübungen unterscheiden, vielmehr in seinem antiken, durch Platons „Gastmahl“ berühmt gewordenen Sinn verstanden werden: als „Trinkgelage“, das auch den Hunger nach Erkenntnis und die Lust an geistigem Schaffen stillt. Als konzipierender Gestalter — als Symposiarch — konnte Dr. Hans Landesmann gewonnen werden. In Vorträgen, Diskussionen, aber auch künstlerischen Beiträgen soll der Frage nachgegangen werden, wie Künstler unter gesellschaftlichen, psycho-sozialen, ökonomischen, pädagogischen und anderen Zwängen leben und arbeiten müssen bzw. können. Im Zentrum des Diskurses stehen dabei Robert Schumann und Dmitri Schostakowitsch. Als Redner werden hochkarätige Vertreter aus den Bereichen Musik, Film, Literatur, Pädagogik und bildender Kunst aufhorchen lassen.PROGRAMM:Film-PreviewSamstag, 4. März 2006, 11:00 UhrÖsterreichisches Filmmuseum, 1010 Wien, Augustinerstraße 1Einfache Menschen (Prostyje ljudi) (Sowjetunion 1945; Regie: Grigori Kosinzew, Drehbuch: Leonid Trauberg, Musik: Dmitri Schostakowitsch; OmU); mit Filmeinführung
Eintritt frei / Reservierung von Zählkarten an der Kassa der Konservatorium Wien Privaruniversität bei Petra Prinzjakowitsch erhältlichp.prinzjakowitsch@konswien.at; Tel.: 01/512 77 47-89329
SymposionSamstag, 4. März 2006 ab 15:00 UhrLeonie-Rysanek-Saal, Konservartorium Wien Privatuniversität15:00 Begrüßung: Ranko Markovic und Gottfried Eisl
Robert Schumann: Märchenerzählungen op. 132Martin Fluch, KlarinetteThomas Christian, ViolaTatjana Franová, Klavier Eröffnung: Vbgm. Stadträtin Grete Laska
15:30 Jörg Widmann (Klarinettist und Komponist)
16:15 Dmitri Schostakowitsch: Streichquartett Nr. 7 fis-moll op. 108
Atlas QuartettIoanna Apostolakos, ViolineBurghard Tölke, ViolineRaphael Handschuh, ViolaElisaveta Sharakhovskaya, Violoncello 
16:45 Kalevi Aho (Komponist und Musikwissenschaftler)  
17:30 Samuel Beckett: Katastrophe
Mit Benedikt Bauernberger, Simon Dietersdorfer und Sandra HuimannLeitung: Tim Kramer
18:00 György Dalos (Literat, Publizist und Übersetzer)
Pause
19:30 Christian Minkowitsch: Unceremonious Ceremonies (UA) Helene Sprinzl, HornHannes Marehard, HornMatthias Maderthaner, TrompeteSivo Penev, TrompeteStefan Grübl, PosaunePeter Kautzky, PosauneRaphael Rinnerthaler, TubaGottfried Barcaba, SchlagwerkGeorg Mittermüller, Schlagwerk
Ernst Theis, Dirigent
20:00 Michael Haneke (Regisseur und Filmemacher)im Gespräch mit Julian Pölsler  21:15 Georg Mark (Dirigent und Pädagoge)
22:00 Danica Dakic (Multimedia-Künstlerin)Marialena Fernandes, Klavier
PRIORITY:5
CLASS:PUBLIC
BEGIN:VALARM
TRIGGER:-PT15M
ACTION:DISPLAY
DESCRIPTION:Reminder
END:VALARM
END:VEVENT
END:VCALENDAR
