BEGIN:VCALENDAR
VERSION:2.0
PRODID:-//TYPO3/NONSGML MUK Events//EN
METHOD:PUBLISH
BEGIN:VTIMEZONE
TZID:W. Europe Standard Time
BEGIN:STANDARD
TZNAME:W. Europe Standard Time
DTSTART:20101217T183000
TZOFFSETFROM:+0200
TZOFFSETTO:+0100
RRULE:FREQ=YEARLY;BYDAY=-1SU;BYMONTH=10
END:STANDARD
BEGIN:DAYLIGHT
TZNAME:W. Europe Standard Time
DTSTART:16010101T020000
TZOFFSETFROM:+0100
TZOFFSETTO:+0200
RRULE:FREQ=YEARLY;BYDAY=-1SU;BYMONTH=3
END:DAYLIGHT
END:VTIMEZONE
BEGIN:VEVENT
ORGANIZER:MAILTO:office@muk.ac.at
UID:bc812c9b-3956-4d17-88de-5e2d152ddc5b
DTSTAMP:20101217T183000Z
DTSTART;TZID="W. Europe Standard Time":20101217T183000
DTEND;TZID="W. Europe Standard Time":20101217T183000
LOCATION:Musik und Kunst Privatuniversität der Stadt Wien, Konzertsaal
TRANSP:OPAQUE
SUMMARY:Stop and Go - Vortragsabend
DESCRIPTION:14.00-18.00 Uhr: Verschiedene musikalische Darbietungen in zeitlich loser Folge.18.30 Uhr: Vortragsabend
Eine gemeinsame Veranstaltung der Abteilung Blasinstrumente und Schlagwerk (Zentrales künstlerische Fach und Kammermusik Blockflöte, Thomas List/Marie Wolf) und der Abteilung Alte Musik (Zentrales künstlerische Fach Historische Oboeninstrumente und der Lehrveranstaltung Ensemble Alte Musik Marie Wolf)
Leitung: Marie WolfCembalo: Erich Traxler
Programm
PRIORITY:5
CLASS:PUBLIC
BEGIN:VALARM
TRIGGER:-PT15M
ACTION:DISPLAY
DESCRIPTION:Reminder
END:VALARM
END:VEVENT
END:VCALENDAR
