BEGIN:VCALENDAR
VERSION:2.0
PRODID:-//TYPO3/NONSGML MUK Events//EN
METHOD:PUBLISH
BEGIN:VTIMEZONE
TZID:W. Europe Standard Time
BEGIN:STANDARD
TZNAME:W. Europe Standard Time
DTSTART:20060301T000000
TZOFFSETFROM:+0200
TZOFFSETTO:+0100
RRULE:FREQ=YEARLY;BYDAY=-1SU;BYMONTH=10
END:STANDARD
BEGIN:DAYLIGHT
TZNAME:W. Europe Standard Time
DTSTART:16010101T020000
TZOFFSETFROM:+0100
TZOFFSETTO:+0200
RRULE:FREQ=YEARLY;BYDAY=-1SU;BYMONTH=3
END:DAYLIGHT
END:VTIMEZONE
BEGIN:VEVENT
ORGANIZER:MAILTO:office@muk.ac.at
UID:bc812c9b-3956-4d17-88de-5e2d152ddc5b
DTSTAMP:20060301T000000Z
DTSTART;TZID="W. Europe Standard Time":20060301T000000
DTEND;TZID="W. Europe Standard Time":20060303T000000
LOCATION:Musik und Kunst Privatuniversität der Stadt Wien, MUK.podium
TRANSP:OPAQUE
SUMMARY:Seminar Kammermusik
DESCRIPTION:Claus-Christian Schuster (Altenberg Trio)Amiram Ganz (Altenberg Trio)
Studienjahr 2005/06
Der Seminarlehrgang steht Studierenden der Abteilungen 2, 3, 4 und 8 offen und umfasst 12 dreitägige Seminarperioden. Studiert werden Kammermusikwerke (inklusive vokaler Kammermusik) in Trio-, Quartett- und Quintettbesetzung. Der Unterricht beginnt an den Seminartagen in der Regel um 9:00 Uhr. Es gibt keine starre Stundeneinteilung, und die Studierenden sollen nach Möglichkeit für die ganze Dauer des Seminars anwesend sein.Die Studierenden werden gebeten, ihre definitive Anmeldung zu jedem Seminar zusammen mit dem vorbereiteten Repertoire jeweils spätestens 7 Tage vor Seminarbeginn per E-Mail an schuster@altenbergtrio.at bekanntzugeben.
Kommende Termine 2005/06:Seminarperiode IX  01. 03.—03. 03. 2006Seminarperiode X  19. 04.—21. 04. 2006 Seminarperiode XI  29. 05.—31. 05. 2006Seminarperiode XII 19. 06.—21. 06. 2006
PRIORITY:5
CLASS:PUBLIC
BEGIN:VALARM
TRIGGER:-PT15M
ACTION:DISPLAY
DESCRIPTION:Reminder
END:VALARM
END:VEVENT
END:VCALENDAR
