BEGIN:VCALENDAR
VERSION:2.0
PRODID:-//TYPO3/NONSGML MUK Events//EN
METHOD:PUBLISH
BEGIN:VTIMEZONE
TZID:W. Europe Standard Time
BEGIN:STANDARD
TZNAME:W. Europe Standard Time
DTSTART:20070320T000000
TZOFFSETFROM:+0200
TZOFFSETTO:+0100
RRULE:FREQ=YEARLY;BYDAY=-1SU;BYMONTH=10
END:STANDARD
BEGIN:DAYLIGHT
TZNAME:W. Europe Standard Time
DTSTART:16010101T020000
TZOFFSETFROM:+0100
TZOFFSETTO:+0200
RRULE:FREQ=YEARLY;BYDAY=-1SU;BYMONTH=3
END:DAYLIGHT
END:VTIMEZONE
BEGIN:VEVENT
ORGANIZER:MAILTO:office@muk.ac.at
UID:bc812c9b-3956-4d17-88de-5e2d152ddc5b
DTSTAMP:20070320T000000Z
DTSTART;TZID="W. Europe Standard Time":20070320T000000
DTEND;TZID="W. Europe Standard Time":20070322T000000
LOCATION:Konservatorium Wien Privatuniversität, Verschiedene Säle
TRANSP:OPAQUE
SUMMARY:Seminar Kammermusik
DESCRIPTION:Leitung: Claus-Christian Schuster und Amiram Ganz (beide Altenberg Trio Wien)Das Seminar umfasst im Studienjahr 2006/07 zehn dreitätige Termine. Jeder Termin endet mit einem Abschlusskonzert am dritten Seminartag abends.
Details zu Orten und Zeitplan finden Sie an den Aushängen an der Konservatorium Wien Privatuniversität.
Termine 2006/07:
I  27.9.—29.9.2006  II  5.10.—7.10.2006  III  18.12.—20.12.2006  IV  8.1.—10.1.2007  V  19./20./22.1.2007  
VI  20.3.—22.3.2007 VII  25.4.—27.4.2007  VIII  9.5.—11.5.2007  IX  30.5.—1.6.2007 X  NEUER TERMIN: 6., 8. und 9.6.2007 
Änderungen vorbehalten.
PRIORITY:5
CLASS:PUBLIC
BEGIN:VALARM
TRIGGER:-PT15M
ACTION:DISPLAY
DESCRIPTION:Reminder
END:VALARM
END:VEVENT
END:VCALENDAR
