BEGIN:VCALENDAR
VERSION:2.0
PRODID:-//TYPO3/NONSGML MUK Events//EN
METHOD:PUBLISH
BEGIN:VTIMEZONE
TZID:W. Europe Standard Time
BEGIN:STANDARD
TZNAME:W. Europe Standard Time
DTSTART:20060319T193000
TZOFFSETFROM:+0200
TZOFFSETTO:+0100
RRULE:FREQ=YEARLY;BYDAY=-1SU;BYMONTH=10
END:STANDARD
BEGIN:DAYLIGHT
TZNAME:W. Europe Standard Time
DTSTART:16010101T020000
TZOFFSETFROM:+0100
TZOFFSETTO:+0200
RRULE:FREQ=YEARLY;BYDAY=-1SU;BYMONTH=3
END:DAYLIGHT
END:VTIMEZONE
BEGIN:VEVENT
ORGANIZER:MAILTO:office@muk.ac.at
UID:bc812c9b-3956-4d17-88de-5e2d152ddc5b
DTSTAMP:20060319T193000Z
DTSTART;TZID="W. Europe Standard Time":20060319T193000
DTEND;TZID="W. Europe Standard Time":20060319T193000
LOCATION:Ensemble Theater am Petersplatz
TRANSP:OPAQUE
SUMMARY:Seidenraupen? Hut ab!
DESCRIPTION:Produktion des 1. Jahrgangs der Abteilung Musikalisches Unterhaltungstheater  
Regie und Produktionsleitung: Isabella FritdumMusikalische Leitung: David HojerChoreografie: Ramesh NairLichtdesign: Barbara „Dulcinea“ JanKostüme: Doris Richter (Kostüme bereitgestellt vom Kostümhaus)Assistenz und Inspizienz: Doris RichterBühnenmeister: Harald LindermannTechnische Leitung: Maurus Mosetig
Im Showprogramm „Seidenraupen? Hut ab!“ wollen Studenten des 1. Jahrgangs der Abteilung Musikalisches Unterhaltungstheater  ihr „Raupenstadium“ dazu nützen, zu spinnen: Konfuse Begebenheiten, die in so manche Höhen und Tiefen künstlerisch-menschlicher Zufälligkeiten führen. Beziehungen und Hoffnung, Suche und Verlorenheit — die Mischung des Lebens.  
PRIORITY:5
CLASS:PUBLIC
BEGIN:VALARM
TRIGGER:-PT15M
ACTION:DISPLAY
DESCRIPTION:Reminder
END:VALARM
END:VEVENT
END:VCALENDAR
