BEGIN:VCALENDAR
VERSION:2.0
PRODID:-//TYPO3/NONSGML MUK Events//EN
METHOD:PUBLISH
BEGIN:VTIMEZONE
TZID:W. Europe Standard Time
BEGIN:STANDARD
TZNAME:W. Europe Standard Time
DTSTART:20071205T000000
TZOFFSETFROM:+0200
TZOFFSETTO:+0100
RRULE:FREQ=YEARLY;BYDAY=-1SU;BYMONTH=10
END:STANDARD
BEGIN:DAYLIGHT
TZNAME:W. Europe Standard Time
DTSTART:16010101T020000
TZOFFSETFROM:+0100
TZOFFSETTO:+0200
RRULE:FREQ=YEARLY;BYDAY=-1SU;BYMONTH=3
END:DAYLIGHT
END:VTIMEZONE
BEGIN:VEVENT
ORGANIZER:MAILTO:office@muk.ac.at
UID:bc812c9b-3956-4d17-88de-5e2d152ddc5b
DTSTAMP:20071205T000000Z
DTSTART;TZID="W. Europe Standard Time":20071205T000000
DTEND;TZID="W. Europe Standard Time":20071219T000000
LOCATION:
TRANSP:OPAQUE
SUMMARY:Saskia Hölbling - Seminar Choreografie
DESCRIPTION:für Studierende des 3. und 4. Jahrgangs der Abteilung Pädagogik für Modernen TanzSaskia Hölbling  - Choreografie, Tanz (* 1971, Wien/Austria)
2 Jahre Studium der Biochemie in WienStudium des Modernen Tanzes (Tanzpädagogik) am Konservatorium Wien (1991-1995) und des zeitgenössischen Tanzes bei P.A.R.T.S in Brüssel (1995-1997, künstl. Ltg.: Anne Teresa de Keersmaeker)Stipendien: danceWeb 1996, Atelier du Monde/Montpellier Danse 2001
1995  Gründung ihres eigenen Tanzensembles DANS.KIAS
Engagements als Tänzerin:“Prometeo”/Bob Wilson/Brüssel (1997)“ein-ander”, “Mazy”, “back to return”/Cie W. Dorner/Wien (1998-2000)“Feignant”/Laurent Pichaud/Montpellier (2002)Choreografien für/mit DANS.KIAS“Duras-Trilogie” (1995-1997) “Do Your Desires Still Burn” (1998) ->  prix d’auteur du conseil général de la Seine-Saint-Denis 2000/Bagnolet“Distance.Two.Near” (1999)“Chat Gap” (1999)“in.tent//frame 1” (2000)“in.tent//frame 2” (2001) –> Choreografie für die Eröffnung des Tanzquartier Wien“other feature” (2002) -> Österreichischer Tanzproduktionspreis 2002“exposition corps” (2003)“superposition corps” (2004)“Your body is the shoreline” (2005)
Solos:“rrr...” (2001) in Zusammenarbeit mit Benoit Lachambre/Can (künstlerische Leitung) und Laurent Goldring/F (Video Ausstellung) -> für die Eröffnung des Tanzquartier Wien “exposition corps” (2003) -> für die “Renconters chorégraphiques internationales de Seine-Saint-Denis/Paris”
Gastchoreografien:für das Wiener Staatsopernballett (“out.of.between”, 1999)für das TanzTheaterWien (“emerge behind your eyes”, 2000)
andere Projekte:2002 Inszenierung/Regie von “Il combattimento di Tancredi e Clorinda“/Monteverdi und “A-ronne”/Berio (Dirigent: Peter Rundl/D, mit dem Vokalensemble Nova/A und DANS.KIAS) 2004 “Labyrinth”, eine Zusammenarbeit von Wolfgang Mitterer (Musik), Alexej Paryla (Video) und Saskia Hölbling (Tanz)beides Produktionen der Taschenoper Wien in Kooperation mit DANS.KIAS
PRIORITY:5
CLASS:PUBLIC
BEGIN:VALARM
TRIGGER:-PT15M
ACTION:DISPLAY
DESCRIPTION:Reminder
END:VALARM
END:VEVENT
END:VCALENDAR
