BEGIN:VCALENDAR
VERSION:2.0
PRODID:-//TYPO3/NONSGML MUK Events//EN
METHOD:PUBLISH
BEGIN:VTIMEZONE
TZID:W. Europe Standard Time
BEGIN:STANDARD
TZNAME:W. Europe Standard Time
DTSTART:20071212T000000
TZOFFSETFROM:+0200
TZOFFSETTO:+0100
RRULE:FREQ=YEARLY;BYDAY=-1SU;BYMONTH=10
END:STANDARD
BEGIN:DAYLIGHT
TZNAME:W. Europe Standard Time
DTSTART:16010101T020000
TZOFFSETFROM:+0100
TZOFFSETTO:+0200
RRULE:FREQ=YEARLY;BYDAY=-1SU;BYMONTH=3
END:DAYLIGHT
END:VTIMEZONE
BEGIN:VEVENT
ORGANIZER:MAILTO:office@muk.ac.at
UID:bc812c9b-3956-4d17-88de-5e2d152ddc5b
DTSTAMP:20071212T000000Z
DTSTART;TZID="W. Europe Standard Time":20071212T000000
DTEND;TZID="W. Europe Standard Time":20071213T000000
LOCATION:Konservatorium Wien Privatuniversität, Raum 4.13
TRANSP:OPAQUE
SUMMARY:Sascha Armbruster - Saxophonkurs (Erasmus)
DESCRIPTION:Zeitplan (Änderungen vorbehalten)
Mittwoch 12.12.2007 (Gerd Nienstedt Saal, Johannesgasse 4a, 1010 Wien)
09.00-09.15     Treffpunkt Cafeteria 
09.15-10.00 Petra Horvat - Lauba: Hard10.00-10.45 Konstanze Ackermann - Berio: Sequenza VIIb10.45-11.30 Saxophonquartett - Neuwirth: Ondate11.30-12.15 Anja Wenger - Laitman: I never saw another butterfly 
Pause
13.00-13.45 Noëmi Schwank - Stockhausen: Entführung13.45-14.30 Alan Luzar/alle - Technik: Altissimo, Klang, Ansatz14.30 Rezital/Lecture   Kurzes Rezital Sascha Armbruster, Fragebögen
Donnerstag 13.12.2007 (Zimmer 5.15, Johannesgasse 4a, 1010 Wien mit Korrepetition Ana Dimova)
09.00-09.45 Anja Wenger - Caplet: Légende09.45-10.30 Noëmi Schwank - Desenclos: Prelude, Cadence et Final10.30-11.15 Fabien Girard - Denissow: Sonate11.15-12.00 Konstanze Ackermann - Schmitt: Légende
Pause
12.30-13.15 Petra Horvat -  Falchamps: Décalcomanie de Reich et Ligeti13.15-14.00 Alan Luzar - Debussy: Rapsodie
PRIORITY:5
CLASS:PUBLIC
BEGIN:VALARM
TRIGGER:-PT15M
ACTION:DISPLAY
DESCRIPTION:Reminder
END:VALARM
END:VEVENT
END:VCALENDAR
