BEGIN:VCALENDAR
VERSION:2.0
PRODID:-//TYPO3/NONSGML MUK Events//EN
METHOD:PUBLISH
BEGIN:VTIMEZONE
TZID:W. Europe Standard Time
BEGIN:STANDARD
TZNAME:W. Europe Standard Time
DTSTART:20070202T193000
TZOFFSETFROM:+0200
TZOFFSETTO:+0100
RRULE:FREQ=YEARLY;BYDAY=-1SU;BYMONTH=10
END:STANDARD
BEGIN:DAYLIGHT
TZNAME:W. Europe Standard Time
DTSTART:16010101T020000
TZOFFSETFROM:+0100
TZOFFSETTO:+0200
RRULE:FREQ=YEARLY;BYDAY=-1SU;BYMONTH=3
END:DAYLIGHT
END:VTIMEZONE
BEGIN:VEVENT
ORGANIZER:MAILTO:office@muk.ac.at
UID:bc812c9b-3956-4d17-88de-5e2d152ddc5b
DTSTAMP:20070202T193000Z
DTSTART;TZID="W. Europe Standard Time":20070202T193000
DTEND;TZID="W. Europe Standard Time":20070202T193000
LOCATION:RadioKulturhaus
TRANSP:OPAQUE
SUMMARY:PreisträgerInnen-Präsentation des 6. Fidelio-Wettbewerbs
DESCRIPTION:Bereits zum sechsten Mal findet der Fidelio-Wettbewerb der Hugo-Breitner-Gesellschaft zur Förderung junger KünstlerInnen der Konservatorium Wien Privatuniversität statt. 
Dieser spartenübergreifende Wettbewerb hat nun schon seit Jahren einen wichtigen Platz in unserem akademischen Jahresablauf. Er bietet Studierenden der Konservatorium Wien Privatuniversität die Gelegenheit, sich für einen kurzen und prägnanten Auftritt vorzubereiten und ihre künstlerischen Überzeugungskraft unter Bedingungen, wie sie ihnen in der Berufslaufbahn noch öfter begegnen werden, zu überprüfen. Der diesjährige Wettbewerb fand am 17. Jänner statt. Die Ergebnisse finden Sie hier.Auch dieses Jahr präsentieren sich die PreisträgerInnen wiederum im Großen Sendesaal des RadioKulturhauses. Erstmalig wird heuer dabei noch als zusätzlicher Hauptpreis unter den PreisträgerInnen das Große Fidelio-Jahresstipendium in der Höhe von 5.400,- EUR, gestiftet von HFP Steuerberater, vergeben. Die Jury bei diesem besonderen Abend am 2. Februar wird gebildet von Angelika Kirchschlager, Clemens Hagen, Angelika Möser, Alfred Solder und Rudi Wilfer.
PRIORITY:5
CLASS:PUBLIC
BEGIN:VALARM
TRIGGER:-PT15M
ACTION:DISPLAY
DESCRIPTION:Reminder
END:VALARM
END:VEVENT
END:VCALENDAR
